BEGIN:VCALENDAR
VERSION:2.0
PRODID:-//Presencia Viva - ECPv6.9.0//NONSGML v1.0//EN
CALSCALE:GREGORIAN
METHOD:PUBLISH
X-WR-CALNAME:Presencia Viva
X-ORIGINAL-URL:https://presenciaviva.com
X-WR-CALDESC:Eventos para Presencia Viva
REFRESH-INTERVAL;VALUE=DURATION:PT1H
X-Robots-Tag:noindex
X-PUBLISHED-TTL:PT1H
BEGIN:VTIMEZONE
TZID:America/New_York
BEGIN:DAYLIGHT
TZOFFSETFROM:-0500
TZOFFSETTO:-0400
TZNAME:EDT
DTSTART:20240310T070000
END:DAYLIGHT
BEGIN:STANDARD
TZOFFSETFROM:-0400
TZOFFSETTO:-0500
TZNAME:EST
DTSTART:20241103T060000
END:STANDARD
END:VTIMEZONE
BEGIN:VEVENT
DTSTART;TZID=America/New_York:20240831T100000
DTEND;TZID=America/New_York:20240831T130000
DTSTAMP:20260421T140620
CREATED:20240802T142321Z
LAST-MODIFIED:20240830T231303Z
UID:36709-1725098400-1725109200@presenciaviva.com
SUMMARY:Sabios
DESCRIPTION:
URL:https://presenciaviva.com/evento/sabios-2/
CATEGORIES:Eventos especiales
ATTACH;FMTTYPE=image/png:https://presenciaviva.com/wp-content/uploads/2024/08/sABIOS-1080.png
ORGANIZER;CN="Presencia viva":MAILTO:info@presenciaviva.com
END:VEVENT
END:VCALENDAR