BEGIN:VCALENDAR
VERSION:2.0
PRODID:-//Presencia Viva - ECPv6.9.0//NONSGML v1.0//EN
CALSCALE:GREGORIAN
METHOD:PUBLISH
X-ORIGINAL-URL:https://presenciaviva.com
X-WR-CALDESC:Eventos para Presencia Viva
REFRESH-INTERVAL;VALUE=DURATION:PT1H
X-Robots-Tag:noindex
X-PUBLISHED-TTL:PT1H
BEGIN:VTIMEZONE
TZID:America/New_York
BEGIN:DAYLIGHT
TZOFFSETFROM:-0500
TZOFFSETTO:-0400
TZNAME:EDT
DTSTART:20240310T070000
END:DAYLIGHT
BEGIN:STANDARD
TZOFFSETFROM:-0400
TZOFFSETTO:-0500
TZNAME:EST
DTSTART:20241103T060000
END:STANDARD
END:VTIMEZONE
BEGIN:VEVENT
DTSTART;TZID=America/New_York:20241031T060000
DTEND;TZID=America/New_York:20241031T070000
DTSTAMP:20260421T104109
CREATED:20240929T105658Z
LAST-MODIFIED:20240929T105658Z
UID:37276-1730354400-1730358000@presenciaviva.com
SUMMARY:Reunión de oración
DESCRIPTION:
URL:https://presenciaviva.com/evento/reunion-de-oracion-5/
LOCATION:Presencia viva\, 7500 NW 25th St UNIT 11\, Miami\, FL\, 33122\, Estados Unidos
CATEGORIES:Reuniones
ORGANIZER;CN="Presencia viva":MAILTO:info@presenciaviva.com
END:VEVENT
BEGIN:VEVENT
DTSTART;TZID=America/New_York:20241031T180000
DTEND;TZID=America/New_York:20241031T200000
DTSTAMP:20260421T104109
CREATED:20241003T222405Z
LAST-MODIFIED:20241029T022557Z
UID:37311-1730397600-1730404800@presenciaviva.com
SUMMARY:Light the night
DESCRIPTION:
URL:https://presenciaviva.com/evento/light-the-night/
LOCATION:Presencia viva\, 7500 NW 25th St UNIT 11\, Miami\, FL\, 33122\, Estados Unidos
CATEGORIES:Destacados,Eventos especiales,Reuniones
ATTACH;FMTTYPE=image/png:https://presenciaviva.com/wp-content/uploads/2024/10/LTN.png
ORGANIZER;CN="Presencia viva":MAILTO:info@presenciaviva.com
END:VEVENT
END:VCALENDAR