BEGIN:VCALENDAR
VERSION:2.0
PRODID:-//Presencia Viva - ECPv6.9.0//NONSGML v1.0//EN
CALSCALE:GREGORIAN
METHOD:PUBLISH
X-WR-CALNAME:Presencia Viva
X-ORIGINAL-URL:https://presenciaviva.com
X-WR-CALDESC:Eventos para Presencia Viva
REFRESH-INTERVAL;VALUE=DURATION:PT1H
X-Robots-Tag:noindex
X-PUBLISHED-TTL:PT1H
BEGIN:VTIMEZONE
TZID:America/New_York
BEGIN:DAYLIGHT
TZOFFSETFROM:-0500
TZOFFSETTO:-0400
TZNAME:EDT
DTSTART:20250309T070000
END:DAYLIGHT
BEGIN:STANDARD
TZOFFSETFROM:-0400
TZOFFSETTO:-0500
TZNAME:EST
DTSTART:20251102T060000
END:STANDARD
END:VTIMEZONE
BEGIN:VEVENT
DTSTART;VALUE=DATE:20250324
DTEND;VALUE=DATE:20250329
DTSTAMP:20260421T084955
CREATED:20250123T030157Z
LAST-MODIFIED:20250123T030157Z
UID:38232-1742774400-1743206399@presenciaviva.com
SUMMARY:SPRING BREAK
DESCRIPTION:Registro
URL:https://presenciaviva.com/evento/spring-break/
LOCATION:Presencia viva\, 7500 NW 25th St UNIT 11\, Miami\, FL\, 33122\, Estados Unidos
CATEGORIES:Campamenos,Eventos especiales
ORGANIZER;CN="Presencia viva":MAILTO:info@presenciaviva.com
END:VEVENT
BEGIN:VEVENT
DTSTART;TZID=America/New_York:20250327T190000
DTEND;TZID=America/New_York:20250327T200000
DTSTAMP:20260421T084956
CREATED:20250222T184214Z
LAST-MODIFIED:20250222T184215Z
UID:38328-1743102000-1743105600@presenciaviva.com
SUMMARY:Noche con David Scarpeta
DESCRIPTION:
URL:https://presenciaviva.com/evento/noche-con-david-scarpeta/
LOCATION:Presencia viva\, 7500 NW 25th St UNIT 11\, Miami\, FL\, 33122\, Estados Unidos
CATEGORIES:Reuniones
ORGANIZER;CN="Presencia viva":MAILTO:info@presenciaviva.com
END:VEVENT
END:VCALENDAR