BEGIN:VCALENDAR
VERSION:2.0
PRODID:-//Presencia Viva - ECPv6.9.0//NONSGML v1.0//EN
CALSCALE:GREGORIAN
METHOD:PUBLISH
X-ORIGINAL-URL:https://presenciaviva.com
X-WR-CALDESC:Eventos para Presencia Viva
REFRESH-INTERVAL;VALUE=DURATION:PT1H
X-Robots-Tag:noindex
X-PUBLISHED-TTL:PT1H
BEGIN:VTIMEZONE
TZID:America/New_York
BEGIN:DAYLIGHT
TZOFFSETFROM:-0500
TZOFFSETTO:-0400
TZNAME:EDT
DTSTART:20250309T070000
END:DAYLIGHT
BEGIN:STANDARD
TZOFFSETFROM:-0400
TZOFFSETTO:-0500
TZNAME:EST
DTSTART:20251102T060000
END:STANDARD
END:VTIMEZONE
BEGIN:VEVENT
DTSTART;TZID=America/New_York:20251213T140000
DTEND;TZID=America/New_York:20251213T200000
DTSTAMP:20260421T185811
CREATED:20251202T001753Z
LAST-MODIFIED:20251202T001753Z
UID:38948-1765634400-1765656000@presenciaviva.com
SUMMARY:Navidad en Casa
DESCRIPTION:¿Qué es Navidad en Casa?\nUna puesta en escena que nos transportará a nuestros países de origen durante esta época tan especial\, a través de la música\, colores y sabores. Juntos recordaremos y celebraremos\, el verdadero significado de la Navidad. \nQueremos recordar el verdadero significado de la Navidad\, no solo como un cumpleaños\, sino como el comienzo de un acto de amor sin igual. La Navidad se trata de ver el tejido de la humanidad entrelazado con la promesa de la vida que Jesús trajo. Su sacrificio en la cruz y su resurrección son el fundamento de nuestra esperanza\, y es lo que queremos compartir contigo esta temporada. \nPodrás disfrutar de nuestra obra en tres funciones\, a las 2:00 P.M – 5:00 P.M y 8:00 P.M. Elige el horario que mejor se adapte a tu día y ven a celebrar con nosotros.
URL:https://presenciaviva.com/evento/navidad-en-casa/
LOCATION:Presencia viva\, 7500 NW 25th St UNIT 11\, Miami\, FL\, 33122\, Estados Unidos
CATEGORIES:Destacados,Eventos especiales,Reuniones
ATTACH;FMTTYPE=image/webp:https://presenciaviva.com/wp-content/uploads/2025/10/pantalla-navidad-miami.webp
ORGANIZER;CN="Presencia viva":MAILTO:info@presenciaviva.com
END:VEVENT
END:VCALENDAR