BEGIN:VCALENDAR
VERSION:2.0
PRODID:-//Presencia Viva - ECPv6.9.0//NONSGML v1.0//EN
CALSCALE:GREGORIAN
METHOD:PUBLISH
X-WR-CALNAME:Presencia Viva
X-ORIGINAL-URL:https://presenciaviva.com
X-WR-CALDESC:Eventos para Presencia Viva
REFRESH-INTERVAL;VALUE=DURATION:PT1H
X-Robots-Tag:noindex
X-PUBLISHED-TTL:PT1H
BEGIN:VTIMEZONE
TZID:America/New_York
BEGIN:DAYLIGHT
TZOFFSETFROM:-0500
TZOFFSETTO:-0400
TZNAME:EDT
DTSTART:20240310T070000
END:DAYLIGHT
BEGIN:STANDARD
TZOFFSETFROM:-0400
TZOFFSETTO:-0500
TZNAME:EST
DTSTART:20241103T060000
END:STANDARD
END:VTIMEZONE
BEGIN:VEVENT
DTSTART;TZID=America/New_York:20240809T190000
DTEND;TZID=America/New_York:20240809T210000
DTSTAMP:20260422T210737
CREATED:20240802T140852Z
LAST-MODIFIED:20240802T140852Z
UID:36686-1723230000-1723237200@presenciaviva.com
SUMMARY:Next
DESCRIPTION:
URL:https://presenciaviva.com/evento/next-agosto-9/
CATEGORIES:Reuniones
ORGANIZER;CN="Presencia viva":MAILTO:info@presenciaviva.com
END:VEVENT
BEGIN:VEVENT
DTSTART;TZID=America/New_York:20240810T173000
DTEND;TZID=America/New_York:20240810T210000
DTSTAMP:20260422T210737
CREATED:20240802T141243Z
LAST-MODIFIED:20240827T022130Z
UID:36694-1723311000-1723323600@presenciaviva.com
SUMMARY:Jóvenes adultos (18 a 30 años)
DESCRIPTION:
URL:https://presenciaviva.com/evento/jovenes-adultos-agosto-10/
LOCATION:Presencia viva\, 7500 NW 25th St UNIT 11\, Miami\, FL\, 33122\, Estados Unidos
CATEGORIES:Reuniones
ORGANIZER;CN="Presencia viva":MAILTO:info@presenciaviva.com
END:VEVENT
BEGIN:VEVENT
DTSTART;TZID=America/New_York:20240816T190000
DTEND;TZID=America/New_York:20240816T210000
DTSTAMP:20260422T210737
CREATED:20240802T140933Z
LAST-MODIFIED:20240827T022015Z
UID:36688-1723834800-1723842000@presenciaviva.com
SUMMARY:Next (Middle and high school)
DESCRIPTION:
URL:https://presenciaviva.com/evento/next-agosto-16/
CATEGORIES:Reuniones
ORGANIZER;CN="Presencia viva":MAILTO:info@presenciaviva.com
END:VEVENT
BEGIN:VEVENT
DTSTART;TZID=America/New_York:20240823T190000
DTEND;TZID=America/New_York:20240823T200000
DTSTAMP:20260422T210737
CREATED:20240802T141731Z
LAST-MODIFIED:20240802T141731Z
UID:36700-1724439600-1724443200@presenciaviva.com
SUMMARY:Solteros 31-50 años. (Nuevo grupo de conexión)
DESCRIPTION:
URL:https://presenciaviva.com/evento/solteros-31-50-anos-nuevo-grupo-de-conexion/
LOCATION:Presencia viva\, 7500 NW 25th St UNIT 11\, Miami\, FL\, 33122\, Estados Unidos
CATEGORIES:Reuniones
ORGANIZER;CN="Presencia viva":MAILTO:info@presenciaviva.com
END:VEVENT
BEGIN:VEVENT
DTSTART;TZID=America/New_York:20240823T190000
DTEND;TZID=America/New_York:20240823T210000
DTSTAMP:20260422T210737
CREATED:20240802T141024Z
LAST-MODIFIED:20240827T022019Z
UID:36690-1724439600-1724446800@presenciaviva.com
SUMMARY:Next (Middle and high school)
DESCRIPTION:
URL:https://presenciaviva.com/evento/next-agosto-23/
CATEGORIES:Reuniones
ORGANIZER;CN="Presencia viva":MAILTO:info@presenciaviva.com
END:VEVENT
BEGIN:VEVENT
DTSTART;TZID=America/New_York:20240824T173000
DTEND;TZID=America/New_York:20240824T210000
DTSTAMP:20260422T210737
CREATED:20240802T141324Z
LAST-MODIFIED:20240827T022125Z
UID:36696-1724520600-1724533200@presenciaviva.com
SUMMARY:Jóvenes adultos (18 a 30 años)
DESCRIPTION:
URL:https://presenciaviva.com/evento/jovenes-adultos-agosto-24/
LOCATION:Presencia viva\, 7500 NW 25th St UNIT 11\, Miami\, FL\, 33122\, Estados Unidos
CATEGORIES:Reuniones
ORGANIZER;CN="Presencia viva":MAILTO:info@presenciaviva.com
END:VEVENT
BEGIN:VEVENT
DTSTART;TZID=America/New_York:20240825T123000
DTEND;TZID=America/New_York:20240825T143000
DTSTAMP:20260422T210737
CREATED:20240802T142136Z
LAST-MODIFIED:20240827T022209Z
UID:36707-1724589000-1724596200@presenciaviva.com
SUMMARY:Presentación de Bebés
DESCRIPTION:Un acto que hacemos delante de Dios pidiendo su bendición sobre nuestros hijos\, y a través del cual los padres se comprometen a criar y a guiar al niño (a) bajo los preceptos de Dios. \nRegistro
URL:https://presenciaviva.com/evento/presentacion-de-bebes/
LOCATION:Presencia viva\, 7500 NW 25th St UNIT 11\, Miami\, FL\, 33122\, Estados Unidos
CATEGORIES:Reuniones
ATTACH;FMTTYPE=image/png:https://presenciaviva.com/wp-content/uploads/2024/02/Dedicacion-de-bebes_pvkids-1080x1080-1.png
ORGANIZER;CN="Presencia viva":MAILTO:info@presenciaviva.com
END:VEVENT
BEGIN:VEVENT
DTSTART;TZID=America/New_York:20240829T060000
DTEND;TZID=America/New_York:20240829T070000
DTSTAMP:20260422T210737
CREATED:20240802T141852Z
LAST-MODIFIED:20240802T141852Z
UID:36705-1724911200-1724914800@presenciaviva.com
SUMMARY:Reunión de oración
DESCRIPTION:
URL:https://presenciaviva.com/evento/reunion-de-oracion-2/
LOCATION:Presencia viva\, 7500 NW 25th St UNIT 11\, Miami\, FL\, 33122\, Estados Unidos
CATEGORIES:Reuniones
ORGANIZER;CN="Presencia viva":MAILTO:info@presenciaviva.com
END:VEVENT
BEGIN:VEVENT
DTSTART;TZID=America/New_York:20240830T190000
DTEND;TZID=America/New_York:20240830T210000
DTSTAMP:20260422T210737
CREATED:20240802T141114Z
LAST-MODIFIED:20240827T022022Z
UID:36692-1725044400-1725051600@presenciaviva.com
SUMMARY:Next (Middle and high school)
DESCRIPTION:
URL:https://presenciaviva.com/evento/next-agosto-30/
CATEGORIES:Reuniones
ORGANIZER;CN="Presencia viva":MAILTO:info@presenciaviva.com
END:VEVENT
END:VCALENDAR