BEGIN:VCALENDAR
VERSION:2.0
PRODID:-//Presencia Viva - ECPv6.9.0//NONSGML v1.0//EN
CALSCALE:GREGORIAN
METHOD:PUBLISH
X-ORIGINAL-URL:https://presenciaviva.com
X-WR-CALDESC:Eventos para Presencia Viva
REFRESH-INTERVAL;VALUE=DURATION:PT1H
X-Robots-Tag:noindex
X-PUBLISHED-TTL:PT1H
BEGIN:VTIMEZONE
TZID:America/New_York
BEGIN:DAYLIGHT
TZOFFSETFROM:-0500
TZOFFSETTO:-0400
TZNAME:EDT
DTSTART:20250309T070000
END:DAYLIGHT
BEGIN:STANDARD
TZOFFSETFROM:-0400
TZOFFSETTO:-0500
TZNAME:EST
DTSTART:20251102T060000
END:STANDARD
END:VTIMEZONE
BEGIN:VEVENT
DTSTART;TZID=America/New_York:20250202T100000
DTEND;TZID=America/New_York:20250202T123000
DTSTAMP:20260422T113804
CREATED:20250127T233944Z
LAST-MODIFIED:20250127T233944Z
UID:38245-1738490400-1738499400@presenciaviva.com
SUMMARY:“Origen” - Nueva Serie de la Biblia
DESCRIPTION:
URL:https://presenciaviva.com/evento/origen-nueva-serie-de-la-biblia/
LOCATION:Presencia viva\, 7500 NW 25th St UNIT 11\, Miami\, FL\, 33122\, Estados Unidos
CATEGORIES:Reuniones
ORGANIZER;CN="Presencia viva":MAILTO:info@presenciaviva.com
END:VEVENT
BEGIN:VEVENT
DTSTART;TZID=America/New_York:20250207T190000
DTEND;TZID=America/New_York:20250207T210000
DTSTAMP:20260422T113804
CREATED:20250127T234457Z
LAST-MODIFIED:20250127T234457Z
UID:38248-1738954800-1738962000@presenciaviva.com
SUMMARY:Next (Middle & High School)
DESCRIPTION:  \n 
URL:https://presenciaviva.com/evento/next-middle-high-school-febrero-1/
LOCATION:Presencia viva\, 7500 NW 25th St UNIT 11\, Miami\, FL\, 33122\, Estados Unidos
CATEGORIES:Reuniones
ORGANIZER;CN="Presencia viva":MAILTO:info@presenciaviva.com
END:VEVENT
BEGIN:VEVENT
DTSTART;TZID=America/New_York:20250208T173000
DTEND;TZID=America/New_York:20250208T200000
DTSTAMP:20260422T113804
CREATED:20250127T234728Z
LAST-MODIFIED:20250127T234728Z
UID:38256-1739035800-1739044800@presenciaviva.com
SUMMARY:Jóvenes Adultos
DESCRIPTION:
URL:https://presenciaviva.com/evento/jovenes-adultos-febrero-1/
LOCATION:Presencia viva\, 7500 NW 25th St UNIT 11\, Miami\, FL\, 33122\, Estados Unidos
CATEGORIES:Reuniones
ORGANIZER;CN="Presencia viva":MAILTO:info@presenciaviva.com
END:VEVENT
BEGIN:VEVENT
DTSTART;TZID=America/New_York:20250214T190000
DTEND;TZID=America/New_York:20250214T210000
DTSTAMP:20260422T113804
CREATED:20250127T234517Z
LAST-MODIFIED:20250127T234517Z
UID:38251-1739559600-1739566800@presenciaviva.com
SUMMARY:Next (Middle & High School)
DESCRIPTION:
URL:https://presenciaviva.com/evento/next-middle-high-school-febrero-2/
LOCATION:Presencia viva\, 7500 NW 25th St UNIT 11\, Miami\, FL\, 33122\, Estados Unidos
CATEGORIES:Reuniones
ORGANIZER;CN="Presencia viva":MAILTO:info@presenciaviva.com
END:VEVENT
BEGIN:VEVENT
DTSTART;TZID=America/New_York:20250222T100000
DTEND;TZID=America/New_York:20250222T120000
DTSTAMP:20260422T113804
CREATED:20250128T000124Z
LAST-MODIFIED:20250128T000839Z
UID:38261-1740218400-1740225600@presenciaviva.com
SUMMARY:Sabios I Edades 65+
DESCRIPTION:La sabiduría no es algo que podamos fabricar\, simular\, comprar o apresurar. \nLa sabiduría toma tiempo\, es honorable\, viene de Dios y es un motivo de celebración. \ndedicado a los SABIOS de esta casa (a partir de los 65 años). \n10:00 AM – 1:00 P.M \n¡Vamos a divertirnos! \n\nKaraoke\nBingo\nPremios\nBrunch\n\nEl propósito es conectarnos unos con otros y hacer de sus aprendizajes nuestras victorias.
URL:https://presenciaviva.com/evento/sabios-65-febrero-2025/
LOCATION:Presencia viva\, 7500 NW 25th St UNIT 11\, Miami\, FL\, 33122\, Estados Unidos
CATEGORIES:Reuniones
ORGANIZER;CN="Presencia viva":MAILTO:info@presenciaviva.com
END:VEVENT
BEGIN:VEVENT
DTSTART;TZID=America/New_York:20250222T173000
DTEND;TZID=America/New_York:20250222T200000
DTSTAMP:20260422T113804
CREATED:20250127T234819Z
LAST-MODIFIED:20250127T234834Z
UID:38259-1740245400-1740254400@presenciaviva.com
SUMMARY:Jóvenes Adultos
DESCRIPTION:
URL:https://presenciaviva.com/evento/jovenes-adultos-febrero-2/
LOCATION:Presencia viva\, 7500 NW 25th St UNIT 11\, Miami\, FL\, 33122\, Estados Unidos
CATEGORIES:Reuniones
ORGANIZER;CN="Presencia viva":MAILTO:info@presenciaviva.com
END:VEVENT
BEGIN:VEVENT
DTSTART;TZID=America/New_York:20250228T190000
DTEND;TZID=America/New_York:20250228T210000
DTSTAMP:20260422T113804
CREATED:20250127T234545Z
LAST-MODIFIED:20250127T234545Z
UID:38253-1740769200-1740776400@presenciaviva.com
SUMMARY:Next (Middle & High School)
DESCRIPTION:
URL:https://presenciaviva.com/evento/next-middle-high-school-febrero-3/
LOCATION:Presencia viva\, 7500 NW 25th St UNIT 11\, Miami\, FL\, 33122\, Estados Unidos
CATEGORIES:Reuniones
ORGANIZER;CN="Presencia viva":MAILTO:info@presenciaviva.com
END:VEVENT
END:VCALENDAR