BEGIN:VCALENDAR
VERSION:2.0
PRODID:-//Presencia Viva - ECPv6.9.0//NONSGML v1.0//EN
CALSCALE:GREGORIAN
METHOD:PUBLISH
X-WR-CALNAME:Presencia Viva
X-ORIGINAL-URL:https://presenciaviva.com
X-WR-CALDESC:Eventos para Presencia Viva
REFRESH-INTERVAL;VALUE=DURATION:PT1H
X-Robots-Tag:noindex
X-PUBLISHED-TTL:PT1H
BEGIN:VTIMEZONE
TZID:America/New_York
BEGIN:DAYLIGHT
TZOFFSETFROM:-0500
TZOFFSETTO:-0400
TZNAME:EDT
DTSTART:20240310T070000
END:DAYLIGHT
BEGIN:STANDARD
TZOFFSETFROM:-0400
TZOFFSETTO:-0500
TZNAME:EST
DTSTART:20241103T060000
END:STANDARD
END:VTIMEZONE
BEGIN:VEVENT
DTSTART;TZID=America/New_York:20240913T190000
DTEND;TZID=America/New_York:20240913T210000
DTSTAMP:20260422T211113
CREATED:20240820T025648Z
LAST-MODIFIED:20240827T022028Z
UID:36923-1726254000-1726261200@presenciaviva.com
SUMMARY:Next (Middle and high school)
DESCRIPTION:
URL:https://presenciaviva.com/evento/next-jovenes-de-grados-6-12/
CATEGORIES:Reuniones
ORGANIZER;CN="Presencia viva":MAILTO:info@presenciaviva.com
END:VEVENT
BEGIN:VEVENT
DTSTART;TZID=America/New_York:20240913T190000
DTEND;TZID=America/New_York:20240913T210000
DTSTAMP:20260422T211113
CREATED:20240820T030245Z
LAST-MODIFIED:20240820T030245Z
UID:36938-1726254000-1726261200@presenciaviva.com
SUMMARY:Matrimonios Comprometidos
DESCRIPTION:
URL:https://presenciaviva.com/evento/matrimonios-comprometidos-2/
CATEGORIES:Reuniones
ORGANIZER;CN="Presencia viva":MAILTO:info@presenciaviva.com
END:VEVENT
END:VCALENDAR