BEGIN:VCALENDAR
VERSION:2.0
PRODID:-//Presencia Viva - ECPv6.9.0//NONSGML v1.0//EN
CALSCALE:GREGORIAN
METHOD:PUBLISH
X-ORIGINAL-URL:https://presenciaviva.com
X-WR-CALDESC:Eventos para Presencia Viva
REFRESH-INTERVAL;VALUE=DURATION:PT1H
X-Robots-Tag:noindex
X-PUBLISHED-TTL:PT1H
BEGIN:VTIMEZONE
TZID:America/New_York
BEGIN:DAYLIGHT
TZOFFSETFROM:-0500
TZOFFSETTO:-0400
TZNAME:EDT
DTSTART:20250309T070000
END:DAYLIGHT
BEGIN:STANDARD
TZOFFSETFROM:-0400
TZOFFSETTO:-0500
TZNAME:EST
DTSTART:20251102T060000
END:STANDARD
END:VTIMEZONE
BEGIN:VEVENT
DTSTART;TZID=America/New_York:20250516T190000
DTEND;TZID=America/New_York:20250516T210000
DTSTAMP:20260421T120020
CREATED:20240723T040631Z
LAST-MODIFIED:20250511T005233Z
UID:36412-1747422000-1747429200@presenciaviva.com
SUMMARY:Noches con el espíritu santo
DESCRIPTION:
URL:https://presenciaviva.com/evento/noches-con-el-espiritu-santo/
LOCATION:Presencia viva\, 7500 NW 25th St UNIT 11\, Miami\, FL\, 33122\, Estados Unidos
CATEGORIES:Reuniones
ATTACH;FMTTYPE=image/jpeg:https://presenciaviva.com/wp-content/uploads/2024/08/nocheconelespiritu.jpg
ORGANIZER;CN="Presencia viva":MAILTO:info@presenciaviva.com
END:VEVENT
BEGIN:VEVENT
DTSTART;TZID=America/New_York:20250517T173000
DTEND;TZID=America/New_York:20250517T200000
DTSTAMP:20260421T120020
CREATED:20250511T004342Z
LAST-MODIFIED:20250511T004342Z
UID:38446-1747503000-1747512000@presenciaviva.com
SUMMARY:Jóvenes Adultos
DESCRIPTION:
URL:https://presenciaviva.com/evento/jovenes-adultos-6/
LOCATION:Presencia viva\, 7500 NW 25th St UNIT 11\, Miami\, FL\, 33122\, Estados Unidos
CATEGORIES:Reuniones
ORGANIZER;CN="Presencia viva":MAILTO:info@presenciaviva.com
END:VEVENT
BEGIN:VEVENT
DTSTART;TZID=America/New_York:20250523T190000
DTEND;TZID=America/New_York:20250523T210000
DTSTAMP:20260421T120020
CREATED:20250511T004035Z
LAST-MODIFIED:20250511T004035Z
UID:38438-1748026800-1748034000@presenciaviva.com
SUMMARY:Next (Middle & High School)
DESCRIPTION:
URL:https://presenciaviva.com/evento/next-middle-high-school-11/
LOCATION:Presencia viva\, 7500 NW 25th St UNIT 11\, Miami\, FL\, 33122\, Estados Unidos
CATEGORIES:Reuniones
ORGANIZER;CN="Presencia viva":MAILTO:info@presenciaviva.com
END:VEVENT
BEGIN:VEVENT
DTSTART;TZID=America/New_York:20250530T190000
DTEND;TZID=America/New_York:20250530T210000
DTSTAMP:20260421T120020
CREATED:20250511T004049Z
LAST-MODIFIED:20250511T004049Z
UID:38439-1748631600-1748638800@presenciaviva.com
SUMMARY:Next (Middle & High School)
DESCRIPTION:
URL:https://presenciaviva.com/evento/next-middle-high-school-12/
LOCATION:Presencia viva\, 7500 NW 25th St UNIT 11\, Miami\, FL\, 33122\, Estados Unidos
CATEGORIES:Reuniones
ORGANIZER;CN="Presencia viva":MAILTO:info@presenciaviva.com
END:VEVENT
BEGIN:VEVENT
DTSTART;TZID=America/New_York:20250531T173000
DTEND;TZID=America/New_York:20250531T200000
DTSTAMP:20260421T120020
CREATED:20250511T004355Z
LAST-MODIFIED:20250511T004355Z
UID:38445-1748712600-1748721600@presenciaviva.com
SUMMARY:Jóvenes Adultos
DESCRIPTION:
URL:https://presenciaviva.com/evento/jovenes-adultos-7/
LOCATION:Presencia viva\, 7500 NW 25th St UNIT 11\, Miami\, FL\, 33122\, Estados Unidos
CATEGORIES:Reuniones
ORGANIZER;CN="Presencia viva":MAILTO:info@presenciaviva.com
END:VEVENT
BEGIN:VEVENT
DTSTART;TZID=America/New_York:20250606T190000
DTEND;TZID=America/New_York:20250606T210000
DTSTAMP:20260421T120020
CREATED:20250601T044614Z
LAST-MODIFIED:20250601T044614Z
UID:38489-1749236400-1749243600@presenciaviva.com
SUMMARY:Next (Middle & High School)
DESCRIPTION:
URL:https://presenciaviva.com/evento/next-middle-high-school-13/
LOCATION:Presencia viva\, 7500 NW 25th St UNIT 11\, Miami\, FL\, 33122\, Estados Unidos
CATEGORIES:Reuniones
ORGANIZER;CN="Presencia viva":MAILTO:info@presenciaviva.com
END:VEVENT
BEGIN:VEVENT
DTSTART;TZID=America/New_York:20250613T190000
DTEND;TZID=America/New_York:20250613T210000
DTSTAMP:20260421T120020
CREATED:20250601T044646Z
LAST-MODIFIED:20250601T044646Z
UID:38488-1749841200-1749848400@presenciaviva.com
SUMMARY:Next (Middle & High School)
DESCRIPTION:
URL:https://presenciaviva.com/evento/next-middle-high-school-14/
LOCATION:Presencia viva\, 7500 NW 25th St UNIT 11\, Miami\, FL\, 33122\, Estados Unidos
CATEGORIES:Reuniones
ORGANIZER;CN="Presencia viva":MAILTO:info@presenciaviva.com
END:VEVENT
BEGIN:VEVENT
DTSTART;TZID=America/New_York:20250614T100000
DTEND;TZID=America/New_York:20250614T120000
DTSTAMP:20260421T120020
CREATED:20250325T003826Z
LAST-MODIFIED:20250601T045429Z
UID:38387-1749895200-1749902400@presenciaviva.com
SUMMARY:Sabios I Edades 65+
DESCRIPTION:La sabiduría no es algo que podamos fabricar\, simular\, comprar o apresurar. \nLa sabiduría toma tiempo\, es honorable\, viene de Dios y es un motivo de celebración. \ndedicado a los SABIOS de esta casa (a partir de los 65 años). \n10:00 AM – 1:00 P.M \n¡Vamos a divertirnos! \n\nKaraoke\nBingo\nPremios\nBrunch\n\nEl propósito es conectarnos unos con otros y hacer de sus aprendizajes nuestras victorias.
URL:https://presenciaviva.com/evento/sabios-i-edades-65-3/
LOCATION:Presencia viva\, 7500 NW 25th St UNIT 11\, Miami\, FL\, 33122\, Estados Unidos
CATEGORIES:Reuniones
ORGANIZER;CN="Presencia viva":MAILTO:info@presenciaviva.com
END:VEVENT
BEGIN:VEVENT
DTSTART;TZID=America/New_York:20250614T173000
DTEND;TZID=America/New_York:20250614T200000
DTSTAMP:20260421T120020
CREATED:20250601T045017Z
LAST-MODIFIED:20250601T045017Z
UID:38497-1749922200-1749931200@presenciaviva.com
SUMMARY:Jóvenes Adultos
DESCRIPTION:
URL:https://presenciaviva.com/evento/jovenes-adultos-8/
LOCATION:Presencia viva\, 7500 NW 25th St UNIT 11\, Miami\, FL\, 33122\, Estados Unidos
CATEGORIES:Reuniones
ORGANIZER;CN="Presencia viva":MAILTO:info@presenciaviva.com
END:VEVENT
BEGIN:VEVENT
DTSTART;TZID=America/New_York:20250615T093000
DTEND;TZID=America/New_York:20250615T120000
DTSTAMP:20260421T120020
CREATED:20250601T045132Z
LAST-MODIFIED:20250601T045132Z
UID:38500-1749979800-1749988800@presenciaviva.com
SUMMARY:Día de los Padres
DESCRIPTION:
URL:https://presenciaviva.com/evento/dia-de-los-padres/
LOCATION:Presencia viva\, 7500 NW 25th St UNIT 11\, Miami\, FL\, 33122\, Estados Unidos
CATEGORIES:Reuniones
ORGANIZER;CN="Presencia viva":MAILTO:info@presenciaviva.com
END:VEVENT
BEGIN:VEVENT
DTSTART;TZID=America/New_York:20250628T173000
DTEND;TZID=America/New_York:20250628T200000
DTSTAMP:20260421T120020
CREATED:20250601T045032Z
LAST-MODIFIED:20250601T045032Z
UID:38496-1751131800-1751140800@presenciaviva.com
SUMMARY:Jóvenes Adultos
DESCRIPTION:
URL:https://presenciaviva.com/evento/jovenes-adultos-9/
LOCATION:Presencia viva\, 7500 NW 25th St UNIT 11\, Miami\, FL\, 33122\, Estados Unidos
CATEGORIES:Reuniones
ORGANIZER;CN="Presencia viva":MAILTO:info@presenciaviva.com
END:VEVENT
BEGIN:VEVENT
DTSTART;VALUE=DATE:20250629
DTEND;VALUE=DATE:20250703
DTSTAMP:20260421T120020
CREATED:20250314T103947Z
LAST-MODIFIED:20250417T005025Z
UID:36070-1751155200-1751500799@presenciaviva.com
SUMMARY:Ignite - Speak Out | Campamento para Jóvenes Cristianos 2025
DESCRIPTION:Un campamento diseñado para jóvenes de Middle y High School.\n“En medio de tantas voces\, elige escuchar LA VOZ de Dios y encuentra la seguridad para ser tú”.\n¡Todos los participantes de este campamento se irán con una nueva confianza para expresar su propia voz y convertirse en verdaderos agentes de cambio y luz en su entorno! Este campamento para jóvenes cristianos está diseñado para transformar sus vidas de manera profunda\, tanto espiritualmente como en la forma en que se relacionan con el mundo que los rodea. \n1 Timoteo 4:12 «No permitas que nadie te subestime por ser joven. Sé un ejemplo para todos los creyentes en lo que dices\, en la forma en que vives\, en tu amor\, tu fe y tu pureza.» \nJeremías 1:5 «Te conocía aun antes de haberte formado en el vientre de tu madre; antes de que nacieras\, te aparté y te nombré mi profeta a las naciones.» \nInvitados especiales\n\n\n\nRoss Johnston\n@rossjohnstonn\n  \n  \n  \n  \nRoss nació por inseminación artificial y creció en un hogar con dos mamás lesbianas. A los 15 años fue invitado a la iglesia\, donde experimentó por primera vez al Espíritu Santo y la presencia de Dios en su vida. Luego\, entregó su vida a Jesús y nació de nuevo en ese momento. Poco después comenzó a asistir a la universidad en San Diego\, donde obtuvo su título y empezó a administrar varios negocios. Cuando llegó 2020\, el Espíritu Santo le habló y le dijo: «Si no te posicionas ahora\, nunca lo harás». Ese fue el momento en el que supo que nació para esto y decidió renunciar a su trabajo a tiempo completo y seguir lo que el Señor le había hablado sobre predicar el evangelio. Su corazón arde por el avivamiento: que la iglesia sea avivada y regrese al primer amor por Jesús\, que los perdidos sean revividos a través de Jesús y que la sociedad se reforme según el diseño de Dios. \n\n\n\nEdwin Castro\n@edwincastrom\n  \n  \n  \n  \nEdwin Castro es autor\, consultor\, coach ontológico Ficop\, y fundador de Presencia Viva\, una iglesia con sedes en Miami\, Colombia\, México y Venezuela. Con más de 20 años de experiencia en el mundo empresarial y financiero\, su misión es ayudar a las personas a comprender su identidad como hijos de Dios\, alcanzar libertad financiera y descubrir su propósito de vida. \n  \n\n\n  \n\n\n\n\n\n\n\n\n\n\nVer esta publicación en Instagram\n\n\n\n\n\n\n\n\n\n\n\n\n\n\n\n\n\n\n\n\n\n\n  \nUna publicación compartida por N X T | YOUTH MIAMI (@pvnext) \n\n\n \nLUGAR: Camp Sparta \nINVERSIÓN: $400 \nQUIERO REGISTRAR A MIS HIJOS\nComo iglesia\, tenemos el compromiso de ser una casa generacional\, y sabemos que nuestros jóvenes están cada vez más expuestos a un contexto que se aleja de los valores del Reino de Dios. Por ello\, nuestro propósito es equiparlos con herramientas divinas que les ayuden a resistir y caminar firmemente en la luz de Jesús. \nNo puedo asistir pero quiero unirme: \nGracias por tu confianza\, por creer en nosotros como ministerio y como iglesia\, y por invertir en esta generación. ¡Juntos podemos hacer de este campamento un momento inolvidable y transformador para todos los jóvenes! \nLas experiencias transformadoras que hemos visto en cada campamento nos motivan a seguir adelante con este evento\, convencidos de que es una oportunidad única para que nuestros jóvenes vivan un encuentro profundo con Dios. \nPuede apoyarnos financieramente para cubrir algunos de los gastos necesarios para que el campamento sea una realidad. Tu generosidad ayudará a solventar: \n\nLos costos relacionados con la alimentación y snacks durante el campamento.\nLos gastos de participación de jóvenes y voluntarios que no pueden cubrir sus propios gastos.\nLa compra de regalos e incentivos para algunas dinámicas y juegos que formarán parte de las actividades.\nOtros gastos operativos para asegurar que todo funcione de manera adecuada.\n\nSabemos que tu contribución será de gran bendición para muchos\, y juntos podremos seguir impactando la vida de nuestros jóvenes con el amor de Jesús. \nSi está en tu corazón aportar\, puedes hacer clic en este LINK \nSi tienes otras preguntas\, por favor escríbenos: \nWilliam Tamayo william.tamayo@presenciaviva.com\,  \nJennifer Aragon jennifer.aragon@presenciaviva.com \nRegistro
URL:https://presenciaviva.com/evento/ignite/
LOCATION:Camp Sparta\, 5055 Camp Sparta Rd\, Sebring\, FL\, 33875\, Estados Unidos
CATEGORIES:Campamenos
ATTACH;FMTTYPE=image/webp:https://presenciaviva.com/wp-content/uploads/2024/07/Ignite-Portada.webp
ORGANIZER;CN="Presencia viva":MAILTO:info@presenciaviva.com
END:VEVENT
BEGIN:VEVENT
DTSTART;TZID=America/New_York:20250711T190000
DTEND;TZID=America/New_York:20250711T210000
DTSTAMP:20260421T120020
CREATED:20250710T023143Z
LAST-MODIFIED:20250710T023143Z
UID:38580-1752260400-1752267600@presenciaviva.com
SUMMARY:Next (Middle & High School)
DESCRIPTION:
URL:https://presenciaviva.com/evento/next-middle-high-school-15/
LOCATION:Presencia viva\, 7500 NW 25th St UNIT 11\, Miami\, FL\, 33122\, Estados Unidos
CATEGORIES:Reuniones
ORGANIZER;CN="Presencia viva":MAILTO:info@presenciaviva.com
END:VEVENT
BEGIN:VEVENT
DTSTART;TZID=America/New_York:20250712T173000
DTEND;TZID=America/New_York:20250712T200000
DTSTAMP:20260421T120020
CREATED:20250710T023450Z
LAST-MODIFIED:20250710T023450Z
UID:38583-1752341400-1752350400@presenciaviva.com
SUMMARY:Jóvenes Adultos
DESCRIPTION:
URL:https://presenciaviva.com/evento/jovenes-adultos-10/
LOCATION:Presencia viva\, 7500 NW 25th St UNIT 11\, Miami\, FL\, 33122\, Estados Unidos
CATEGORIES:Reuniones
ORGANIZER;CN="Presencia viva":MAILTO:info@presenciaviva.com
END:VEVENT
BEGIN:VEVENT
DTSTART;TZID=America/New_York:20250718T190000
DTEND;TZID=America/New_York:20250718T210000
DTSTAMP:20260421T120020
CREATED:20250710T023217Z
LAST-MODIFIED:20250710T023217Z
UID:38579-1752865200-1752872400@presenciaviva.com
SUMMARY:Next (Middle & High School)
DESCRIPTION:
URL:https://presenciaviva.com/evento/next-middle-high-school-16/
LOCATION:Presencia viva\, 7500 NW 25th St UNIT 11\, Miami\, FL\, 33122\, Estados Unidos
CATEGORIES:Reuniones
ORGANIZER;CN="Presencia viva":MAILTO:info@presenciaviva.com
END:VEVENT
BEGIN:VEVENT
DTSTART;TZID=America/New_York:20250719T100000
DTEND;TZID=America/New_York:20250719T120000
DTSTAMP:20260421T120020
CREATED:20250710T023433Z
LAST-MODIFIED:20250710T023433Z
UID:38584-1752919200-1752926400@presenciaviva.com
SUMMARY:Sabios I Edades 65+
DESCRIPTION:La sabiduría no es algo que podamos fabricar\, simular\, comprar o apresurar. \nLa sabiduría toma tiempo\, es honorable\, viene de Dios y es un motivo de celebración. \ndedicado a los SABIOS de esta casa (a partir de los 65 años). \n10:00 AM – 1:00 P.M \n¡Vamos a divertirnos! \n\nKaraoke\nBingo\nPremios\nBrunch\n\nEl propósito es conectarnos unos con otros y hacer de sus aprendizajes nuestras victorias. \n 
URL:https://presenciaviva.com/evento/sabios-i-edades-65-4/
LOCATION:Presencia viva\, 7500 NW 25th St UNIT 11\, Miami\, FL\, 33122\, Estados Unidos
CATEGORIES:Reuniones
ORGANIZER;CN="Presencia viva":MAILTO:info@presenciaviva.com
END:VEVENT
BEGIN:VEVENT
DTSTART;VALUE=DATE:20250724
DTEND;VALUE=DATE:20250727
DTSTAMP:20260421T120020
CREATED:20250604T013441Z
LAST-MODIFIED:20250604T013441Z
UID:38514-1753315200-1753574399@presenciaviva.com
SUMMARY:Contracultura 2025 - Defendiendo la Verdad en un Mundo Cambiante
DESCRIPTION:📅 Fecha: 24 al 26 de julio de 2025 \n📍 Lugar: Auditorio de Presencia Viva\, 7500 NW 25th St\, Unit 11\, Doral\, Florida 33122 \nEn un entorno donde los valores fundamentales enfrentan constantes desafíos\, ContraCultura es una convocatoria para fortalecer y equipar a familias\, líderes y pastores con herramientas sólidas y argumentos científicos\, sociológicos y bíblicos que les permitan defender la verdad\, la fe y la familia con confianza. \nObjetivos del Evento:\nCapacitar a padres de familia para que se sientan seguros al abordar conversaciones complejas con sus hijos sobre la cultura actual. Empoderar a pastores y líderes comunitarios para que guíen con sabiduría y firmeza en medio de los desafíos contemporáneos. Equipar a jóvenes y adultos con recursos para responder con verdad y amor ante las presiones culturales y sociales. \nTemas a Tratar:\n\nLa nueva subjetividad\nDerechos humanos: aborto\, feminismo y el movimiento trans\nLa revolución de género y la nueva identidad\nPropaganda y estrategias de manipulación\n\nConferencistas Invitados:\n\n\n\n\n\n\n\n\n\n\nSixto Porras\n\n\nEdwin Castro\n\n\nPablo Muñoz\n\n\nGlenn Stanton\n\n\n\n\nAgenda Destacada:\nJueves 24 de julio:\n\n6:30 PM – Bienvenida a Contra Cultura\n7:30 PM – La Nueva Subjetividad\n\nViernes 25 de julio:\n\n6:30 PM – Derechos Humanos: Aborto\, Feminismo y el Movimiento Trans\n8:00 PM – La Revolución de Género y la Nueva Identidad\n\nSábado 26 de julio:\n\n9:00 AM – Vivir Juntos o Casarnos… ¿El Anillo Hace Alguna Diferencia?\n10:30 AM – Propaganda y las Estrategias de Manipulación\n1:30 PM – Sobrepoblación vs. Fertilidad\n3:15 PM – ¿Cómo Ganamos Esta Batalla?\n4:45 PM – Preguntas y Respuestas\n5:30 PM – Cierre de Contra Cultura\n\nInformación Adicional: \n\nIdioma: Español (con traducción simultánea para exposiciones en inglés)\nInversión: USD $117 por persona. Precio especial de $97 si se registra antes del 15 de junio.\nAlojamiento: Recomendaciones de hoteles cercanos disponibles en el sitio web oficial.\nTransporte: Opciones disponibles desde los aeropuertos de Miami y Fort Lauderdale.\n\nRegistro
URL:https://presenciaviva.com/evento/contracultura-2025-defendiendo-la-verdad-en-un-mundo-cambiante/
LOCATION:Presencia viva\, 7500 NW 25th St UNIT 11\, Miami\, FL\, 33122\, Estados Unidos
CATEGORIES:Destacados,Eventos especiales
ATTACH;FMTTYPE=image/webp:https://presenciaviva.com/wp-content/uploads/2025/06/Contracultura.webp
ORGANIZER;CN="Presencia viva":MAILTO:info@presenciaviva.com
END:VEVENT
BEGIN:VEVENT
DTSTART;TZID=America/New_York:20250801T190000
DTEND;TZID=America/New_York:20250801T210000
DTSTAMP:20260421T120020
CREATED:20250803T010633Z
LAST-MODIFIED:20250803T010633Z
UID:38593-1754074800-1754082000@presenciaviva.com
SUMMARY:Next (Middle & High School)
DESCRIPTION:
URL:https://presenciaviva.com/evento/next-middle-high-school-17/
LOCATION:Presencia viva\, 7500 NW 25th St UNIT 11\, Miami\, FL\, 33122\, Estados Unidos
CATEGORIES:Reuniones
ORGANIZER;CN="Presencia viva":MAILTO:info@presenciaviva.com
END:VEVENT
BEGIN:VEVENT
DTSTART;TZID=America/New_York:20250808T090000
DTEND;TZID=America/New_York:20250809T210000
DTSTAMP:20260421T120020
CREATED:20250803T010405Z
LAST-MODIFIED:20250803T010405Z
UID:38589-1754643600-1754773200@presenciaviva.com
SUMMARY:🚨TTL training BOOTCAMP🚨
DESCRIPTION:🚨TTL training BOOTCAMP🚨\n📍Miami\, FL\n🗓️ 8 & 9 agosto 2025 \nUn entrenamiento intensivo PRESENCIAL para ser de los que perseveran hasta el final. \n🔗 Adquiere tu entrada con 30% OFF:\n👉🏼 https://ttltraining.com/bootcamp/ \nAuditorio Presencia Viva\n7500 NW 25th St UNIT 11 Miami\, FL. \n⚠️ Cupos muy limitados ⚠️\nLa cuenta regresiva ya empezó… 🤭🔢 \n📣 Compártelo en tus historias\, etiqueta a esos amigos que sí o sí tienen que estar…\n¡Que nadie se lo pierda!
URL:https://presenciaviva.com/evento/%f0%9f%9a%a8ttl-training-bootcamp%f0%9f%9a%a8/
LOCATION:Presencia viva\, 7500 NW 25th St UNIT 11\, Miami\, FL\, 33122\, Estados Unidos
CATEGORIES:Destacados,Eventos especiales
ATTACH;FMTTYPE=image/webp:https://presenciaviva.com/wp-content/uploads/2025/08/ttl.webp
ORGANIZER;CN="Presencia viva":MAILTO:info@presenciaviva.com
END:VEVENT
BEGIN:VEVENT
DTSTART;TZID=America/New_York:20250812T190000
DTEND;TZID=America/New_York:20250812T210000
DTSTAMP:20260421T120021
CREATED:20250803T011625Z
LAST-MODIFIED:20250803T011625Z
UID:38607-1755025200-1755032400@presenciaviva.com
SUMMARY:Inicio Grupos de conexión
DESCRIPTION:
URL:https://presenciaviva.com/evento/inicio-grupos-de-conexion-2/
CATEGORIES:Grupos de conexión,Reuniones
ORGANIZER;CN="Presencia viva":MAILTO:info@presenciaviva.com
END:VEVENT
BEGIN:VEVENT
DTSTART;TZID=America/New_York:20250815T190000
DTEND;TZID=America/New_York:20250815T210000
DTSTAMP:20260421T120021
CREATED:20250803T010715Z
LAST-MODIFIED:20250803T010715Z
UID:38594-1755284400-1755291600@presenciaviva.com
SUMMARY:Next (Middle & High School)
DESCRIPTION:
URL:https://presenciaviva.com/evento/next-middle-high-school-18/
LOCATION:Presencia viva\, 7500 NW 25th St UNIT 11\, Miami\, FL\, 33122\, Estados Unidos
CATEGORIES:Reuniones
ORGANIZER;CN="Presencia viva":MAILTO:info@presenciaviva.com
END:VEVENT
BEGIN:VEVENT
DTSTART;TZID=America/New_York:20250822T190000
DTEND;TZID=America/New_York:20250822T210000
DTSTAMP:20260421T120021
CREATED:20250803T010742Z
LAST-MODIFIED:20250803T010742Z
UID:38595-1755889200-1755896400@presenciaviva.com
SUMMARY:Next (Middle & High School)
DESCRIPTION:
URL:https://presenciaviva.com/evento/next-middle-high-school-19/
LOCATION:Presencia viva\, 7500 NW 25th St UNIT 11\, Miami\, FL\, 33122\, Estados Unidos
CATEGORIES:Reuniones
ORGANIZER;CN="Presencia viva":MAILTO:info@presenciaviva.com
END:VEVENT
BEGIN:VEVENT
DTSTART;TZID=America/New_York:20250823T173000
DTEND;TZID=America/New_York:20250823T200000
DTSTAMP:20260421T120021
CREATED:20250803T011325Z
LAST-MODIFIED:20250803T011325Z
UID:38603-1755970200-1755979200@presenciaviva.com
SUMMARY:Jóvenes Adultos
DESCRIPTION:
URL:https://presenciaviva.com/evento/jovenes-adultos-11/
LOCATION:Presencia viva\, 7500 NW 25th St UNIT 11\, Miami\, FL\, 33122\, Estados Unidos
CATEGORIES:Reuniones
ORGANIZER;CN="Presencia viva":MAILTO:info@presenciaviva.com
END:VEVENT
BEGIN:VEVENT
DTSTART;TZID=America/New_York:20250824T100000
DTEND;TZID=America/New_York:20250824T143000
DTSTAMP:20260421T120021
CREATED:20250803T011457Z
LAST-MODIFIED:20250803T011457Z
UID:38605-1756029600-1756045800@presenciaviva.com
SUMMARY:La Vida de Jesús
DESCRIPTION:
URL:https://presenciaviva.com/evento/la-vida-de-jesus/
LOCATION:Presencia viva\, 7500 NW 25th St UNIT 11\, Miami\, FL\, 33122\, Estados Unidos
CATEGORIES:Reuniones
ORGANIZER;CN="Presencia viva":MAILTO:info@presenciaviva.com
END:VEVENT
BEGIN:VEVENT
DTSTART;TZID=America/New_York:20250829T190000
DTEND;TZID=America/New_York:20250829T210000
DTSTAMP:20260421T120021
CREATED:20250803T010758Z
LAST-MODIFIED:20250803T010758Z
UID:38596-1756494000-1756501200@presenciaviva.com
SUMMARY:Next (Middle & High School)
DESCRIPTION:
URL:https://presenciaviva.com/evento/next-middle-high-school-20/
LOCATION:Presencia viva\, 7500 NW 25th St UNIT 11\, Miami\, FL\, 33122\, Estados Unidos
CATEGORIES:Reuniones
ORGANIZER;CN="Presencia viva":MAILTO:info@presenciaviva.com
END:VEVENT
BEGIN:VEVENT
DTSTART;TZID=America/New_York:20250905T190000
DTEND;TZID=America/New_York:20250905T210000
DTSTAMP:20260421T120021
CREATED:20250909T234901Z
LAST-MODIFIED:20250909T234901Z
UID:38663-1757098800-1757106000@presenciaviva.com
SUMMARY:Next (Middle & High School)
DESCRIPTION:
URL:https://presenciaviva.com/evento/next-middle-high-school-21/
LOCATION:Presencia viva\, 7500 NW 25th St UNIT 11\, Miami\, FL\, 33122\, Estados Unidos
CATEGORIES:Reuniones
ORGANIZER;CN="Presencia viva":MAILTO:info@presenciaviva.com
END:VEVENT
BEGIN:VEVENT
DTSTART;TZID=America/New_York:20250906T173000
DTEND;TZID=America/New_York:20250906T200000
DTSTAMP:20260421T120021
CREATED:20250909T235221Z
LAST-MODIFIED:20250909T235221Z
UID:38668-1757179800-1757188800@presenciaviva.com
SUMMARY:Jóvenes Adultos
DESCRIPTION:
URL:https://presenciaviva.com/evento/jovenes-adultos-12/
LOCATION:Presencia viva\, 7500 NW 25th St UNIT 11\, Miami\, FL\, 33122\, Estados Unidos
CATEGORIES:Reuniones
ORGANIZER;CN="Presencia viva":MAILTO:info@presenciaviva.com
END:VEVENT
BEGIN:VEVENT
DTSTART;TZID=America/New_York:20250912T190000
DTEND;TZID=America/New_York:20250912T210000
DTSTAMP:20260421T120021
CREATED:20250511T004620Z
LAST-MODIFIED:20250909T235358Z
UID:38449-1757703600-1757710800@presenciaviva.com
SUMMARY:Matrimonios Comprometidos
DESCRIPTION:
URL:https://presenciaviva.com/evento/matrimonios-comprometidos-6/
LOCATION:Presencia viva\, 7500 NW 25th St UNIT 11\, Miami\, FL\, 33122\, Estados Unidos
CATEGORIES:Reuniones
ORGANIZER;CN="Presencia viva":MAILTO:info@presenciaviva.com
END:VEVENT
BEGIN:VEVENT
DTSTART;TZID=America/New_York:20250912T190000
DTEND;TZID=America/New_York:20250912T210000
DTSTAMP:20260421T120021
CREATED:20250909T234938Z
LAST-MODIFIED:20250909T234938Z
UID:38662-1757703600-1757710800@presenciaviva.com
SUMMARY:Next (Middle & High School)
DESCRIPTION:
URL:https://presenciaviva.com/evento/next-middle-high-school-22/
LOCATION:Presencia viva\, 7500 NW 25th St UNIT 11\, Miami\, FL\, 33122\, Estados Unidos
CATEGORIES:Reuniones
ORGANIZER;CN="Presencia viva":MAILTO:info@presenciaviva.com
END:VEVENT
BEGIN:VEVENT
DTSTART;TZID=America/New_York:20250920T173000
DTEND;TZID=America/New_York:20250920T200000
DTSTAMP:20260421T120021
CREATED:20250909T235236Z
LAST-MODIFIED:20250909T235236Z
UID:38667-1758389400-1758398400@presenciaviva.com
SUMMARY:Jóvenes Adultos
DESCRIPTION:
URL:https://presenciaviva.com/evento/jovenes-adultos-13/
LOCATION:Presencia viva\, 7500 NW 25th St UNIT 11\, Miami\, FL\, 33122\, Estados Unidos
CATEGORIES:Reuniones
ORGANIZER;CN="Presencia viva":MAILTO:info@presenciaviva.com
END:VEVENT
END:VCALENDAR