BEGIN:VCALENDAR
VERSION:2.0
PRODID:-//Presencia Viva - ECPv6.9.0//NONSGML v1.0//EN
CALSCALE:GREGORIAN
METHOD:PUBLISH
X-ORIGINAL-URL:https://presenciaviva.com
X-WR-CALDESC:Eventos para Presencia Viva
REFRESH-INTERVAL;VALUE=DURATION:PT1H
X-Robots-Tag:noindex
X-PUBLISHED-TTL:PT1H
BEGIN:VTIMEZONE
TZID:America/New_York
BEGIN:DAYLIGHT
TZOFFSETFROM:-0500
TZOFFSETTO:-0400
TZNAME:EDT
DTSTART:20250309T070000
END:DAYLIGHT
BEGIN:STANDARD
TZOFFSETFROM:-0400
TZOFFSETTO:-0500
TZNAME:EST
DTSTART:20251102T060000
END:STANDARD
END:VTIMEZONE
BEGIN:VEVENT
DTSTART;TZID=America/New_York:20250905T190000
DTEND;TZID=America/New_York:20250905T210000
DTSTAMP:20260421T201158
CREATED:20250909T234901Z
LAST-MODIFIED:20250909T234901Z
UID:38663-1757098800-1757106000@presenciaviva.com
SUMMARY:Next (Middle & High School)
DESCRIPTION:
URL:https://presenciaviva.com/evento/next-middle-high-school-21/
LOCATION:Presencia viva\, 7500 NW 25th St UNIT 11\, Miami\, FL\, 33122\, Estados Unidos
CATEGORIES:Reuniones
ORGANIZER;CN="Presencia viva":MAILTO:info@presenciaviva.com
END:VEVENT
BEGIN:VEVENT
DTSTART;TZID=America/New_York:20250906T173000
DTEND;TZID=America/New_York:20250906T200000
DTSTAMP:20260421T201158
CREATED:20250909T235221Z
LAST-MODIFIED:20250909T235221Z
UID:38668-1757179800-1757188800@presenciaviva.com
SUMMARY:Jóvenes Adultos
DESCRIPTION:
URL:https://presenciaviva.com/evento/jovenes-adultos-12/
LOCATION:Presencia viva\, 7500 NW 25th St UNIT 11\, Miami\, FL\, 33122\, Estados Unidos
CATEGORIES:Reuniones
ORGANIZER;CN="Presencia viva":MAILTO:info@presenciaviva.com
END:VEVENT
BEGIN:VEVENT
DTSTART;TZID=America/New_York:20250912T190000
DTEND;TZID=America/New_York:20250912T210000
DTSTAMP:20260421T201158
CREATED:20250511T004620Z
LAST-MODIFIED:20250909T235358Z
UID:38449-1757703600-1757710800@presenciaviva.com
SUMMARY:Matrimonios Comprometidos
DESCRIPTION:
URL:https://presenciaviva.com/evento/matrimonios-comprometidos-6/
LOCATION:Presencia viva\, 7500 NW 25th St UNIT 11\, Miami\, FL\, 33122\, Estados Unidos
CATEGORIES:Reuniones
ORGANIZER;CN="Presencia viva":MAILTO:info@presenciaviva.com
END:VEVENT
BEGIN:VEVENT
DTSTART;TZID=America/New_York:20250912T190000
DTEND;TZID=America/New_York:20250912T210000
DTSTAMP:20260421T201158
CREATED:20250909T234938Z
LAST-MODIFIED:20250909T234938Z
UID:38662-1757703600-1757710800@presenciaviva.com
SUMMARY:Next (Middle & High School)
DESCRIPTION:
URL:https://presenciaviva.com/evento/next-middle-high-school-22/
LOCATION:Presencia viva\, 7500 NW 25th St UNIT 11\, Miami\, FL\, 33122\, Estados Unidos
CATEGORIES:Reuniones
ORGANIZER;CN="Presencia viva":MAILTO:info@presenciaviva.com
END:VEVENT
BEGIN:VEVENT
DTSTART;TZID=America/New_York:20250920T173000
DTEND;TZID=America/New_York:20250920T200000
DTSTAMP:20260421T201158
CREATED:20250909T235236Z
LAST-MODIFIED:20250909T235236Z
UID:38667-1758389400-1758398400@presenciaviva.com
SUMMARY:Jóvenes Adultos
DESCRIPTION:
URL:https://presenciaviva.com/evento/jovenes-adultos-13/
LOCATION:Presencia viva\, 7500 NW 25th St UNIT 11\, Miami\, FL\, 33122\, Estados Unidos
CATEGORIES:Reuniones
ORGANIZER;CN="Presencia viva":MAILTO:info@presenciaviva.com
END:VEVENT
BEGIN:VEVENT
DTSTART;TZID=America/New_York:20250926T190000
DTEND;TZID=America/New_York:20250926T210000
DTSTAMP:20260421T201158
CREATED:20250909T234954Z
LAST-MODIFIED:20250909T234954Z
UID:38661-1758913200-1758920400@presenciaviva.com
SUMMARY:Next (Middle & High School)
DESCRIPTION:
URL:https://presenciaviva.com/evento/next-middle-high-school-23/
LOCATION:Presencia viva\, 7500 NW 25th St UNIT 11\, Miami\, FL\, 33122\, Estados Unidos
CATEGORIES:Reuniones
ORGANIZER;CN="Presencia viva":MAILTO:info@presenciaviva.com
END:VEVENT
BEGIN:VEVENT
DTSTART;TZID=America/New_York:20250928T123000
DTEND;TZID=America/New_York:20250928T143000
DTSTAMP:20260421T201158
CREATED:20250104T180949Z
LAST-MODIFIED:20250909T235752Z
UID:38116-1759062600-1759069800@presenciaviva.com
SUMMARY:Dedicación de Bebés
DESCRIPTION:Un acto que hacemos delante de Dios pidiendo su bendición sobre nuestros hijos\, y a través del cual los padres se comprometen a criar y a guiar al niño (a) bajo los preceptos de Dios. \nRegistro
URL:https://presenciaviva.com/evento/dedicacion-de-bebes-enero/
LOCATION:Presencia viva\, 7500 NW 25th St UNIT 11\, Miami\, FL\, 33122\, Estados Unidos
CATEGORIES:Reuniones
ATTACH;FMTTYPE=image/png:https://presenciaviva.com/wp-content/uploads/2024/02/Dedicacion-de-bebes_pvkids-1080x1080-1.png
ORGANIZER;CN="Presencia viva":MAILTO:info@presenciaviva.com
END:VEVENT
BEGIN:VEVENT
DTSTART;TZID=America/New_York:20251003T190000
DTEND;TZID=America/New_York:20251003T210000
DTSTAMP:20260421T201158
CREATED:20251004T163239Z
LAST-MODIFIED:20251004T163239Z
UID:38763-1759518000-1759525200@presenciaviva.com
SUMMARY:Next (Middle & High School)
DESCRIPTION:
URL:https://presenciaviva.com/evento/next-middle-high-school-24/
LOCATION:Presencia viva\, 7500 NW 25th St UNIT 11\, Miami\, FL\, 33122\, Estados Unidos
CATEGORIES:Reuniones
ORGANIZER;CN="Presencia viva":MAILTO:info@presenciaviva.com
END:VEVENT
BEGIN:VEVENT
DTSTART;TZID=America/New_York:20251004T173000
DTEND;TZID=America/New_York:20251004T200000
DTSTAMP:20260421T201158
CREATED:20251004T163557Z
LAST-MODIFIED:20251004T163557Z
UID:38770-1759599000-1759608000@presenciaviva.com
SUMMARY:Jóvenes Adultos
DESCRIPTION:
URL:https://presenciaviva.com/evento/jovenes-adultos-14/
LOCATION:Presencia viva\, 7500 NW 25th St UNIT 11\, Miami\, FL\, 33122\, Estados Unidos
CATEGORIES:Reuniones
ORGANIZER;CN="Presencia viva":MAILTO:info@presenciaviva.com
END:VEVENT
BEGIN:VEVENT
DTSTART;TZID=America/New_York:20251008T190000
DTEND;TZID=America/New_York:20251008T200000
DTSTAMP:20260421T201158
CREATED:20250322T172823Z
LAST-MODIFIED:20251004T163712Z
UID:38310-1759950000-1759953600@presenciaviva.com
SUMMARY:Reunión de Mujeres
DESCRIPTION:Registro
URL:https://presenciaviva.com/evento/reunion-de-mujeres/
LOCATION:Presencia viva\, 7500 NW 25th St UNIT 11\, Miami\, FL\, 33122\, Estados Unidos
CATEGORIES:Eventos especiales
ORGANIZER;CN="Presencia viva":MAILTO:info@presenciaviva.com
END:VEVENT
BEGIN:VEVENT
DTSTART;TZID=America/New_York:20251010T190000
DTEND;TZID=America/New_York:20251010T210000
DTSTAMP:20260421T201158
CREATED:20240717T004412Z
LAST-MODIFIED:20251004T163825Z
UID:36078-1760122800-1760130000@presenciaviva.com
SUMMARY:Matrimonios Comprometidos
DESCRIPTION:
URL:https://presenciaviva.com/evento/matrimonios-comprometidos/
CATEGORIES:Reuniones
ORGANIZER;CN="Presencia viva":MAILTO:info@presenciaviva.com
END:VEVENT
BEGIN:VEVENT
DTSTART;TZID=America/New_York:20251010T190000
DTEND;TZID=America/New_York:20251010T210000
DTSTAMP:20260421T201158
CREATED:20251004T163336Z
LAST-MODIFIED:20251004T163336Z
UID:38762-1760122800-1760130000@presenciaviva.com
SUMMARY:Next (Middle & High School)
DESCRIPTION:
URL:https://presenciaviva.com/evento/next-middle-high-school-25/
LOCATION:Presencia viva\, 7500 NW 25th St UNIT 11\, Miami\, FL\, 33122\, Estados Unidos
CATEGORIES:Reuniones
ORGANIZER;CN="Presencia viva":MAILTO:info@presenciaviva.com
END:VEVENT
BEGIN:VEVENT
DTSTART;TZID=America/New_York:20251015T190000
DTEND;TZID=America/New_York:20251015T200000
DTSTAMP:20260421T201158
CREATED:20250325T001417Z
LAST-MODIFIED:20251004T163934Z
UID:38369-1760554800-1760558400@presenciaviva.com
SUMMARY:Reunión de Hombres
DESCRIPTION:
URL:https://presenciaviva.com/evento/reunion-de-hombres/
LOCATION:Presencia viva\, 7500 NW 25th St UNIT 11\, Miami\, FL\, 33122\, Estados Unidos
CATEGORIES:Eventos especiales
ORGANIZER;CN="Presencia viva":MAILTO:info@presenciaviva.com
END:VEVENT
BEGIN:VEVENT
DTSTART;TZID=America/New_York:20251017T190000
DTEND;TZID=America/New_York:20251017T210000
DTSTAMP:20260421T201158
CREATED:20251004T163402Z
LAST-MODIFIED:20251004T163402Z
UID:38761-1760727600-1760734800@presenciaviva.com
SUMMARY:Next (Middle & High School)
DESCRIPTION:
URL:https://presenciaviva.com/evento/next-middle-high-school-26/
LOCATION:Presencia viva\, 7500 NW 25th St UNIT 11\, Miami\, FL\, 33122\, Estados Unidos
CATEGORIES:Reuniones
ORGANIZER;CN="Presencia viva":MAILTO:info@presenciaviva.com
END:VEVENT
BEGIN:VEVENT
DTSTART;TZID=America/New_York:20251018T173000
DTEND;TZID=America/New_York:20251018T200000
DTSTAMP:20260421T201158
CREATED:20251004T163613Z
LAST-MODIFIED:20251004T163613Z
UID:38769-1760808600-1760817600@presenciaviva.com
SUMMARY:Jóvenes Adultos
DESCRIPTION:
URL:https://presenciaviva.com/evento/jovenes-adultos-15/
LOCATION:Presencia viva\, 7500 NW 25th St UNIT 11\, Miami\, FL\, 33122\, Estados Unidos
CATEGORIES:Reuniones
ORGANIZER;CN="Presencia viva":MAILTO:info@presenciaviva.com
END:VEVENT
BEGIN:VEVENT
DTSTART;TZID=America/New_York:20251024T190000
DTEND;TZID=America/New_York:20251024T210000
DTSTAMP:20260421T201158
CREATED:20251004T163431Z
LAST-MODIFIED:20251004T163431Z
UID:38760-1761332400-1761339600@presenciaviva.com
SUMMARY:Next (Middle & High School)
DESCRIPTION:
URL:https://presenciaviva.com/evento/next-middle-high-school-27/
LOCATION:Presencia viva\, 7500 NW 25th St UNIT 11\, Miami\, FL\, 33122\, Estados Unidos
CATEGORIES:Reuniones
ORGANIZER;CN="Presencia viva":MAILTO:info@presenciaviva.com
END:VEVENT
BEGIN:VEVENT
DTSTART;TZID=America/New_York:20251025T100000
DTEND;TZID=America/New_York:20251025T120000
DTSTAMP:20260421T201158
CREATED:20250803T011151Z
LAST-MODIFIED:20251004T164038Z
UID:38601-1761386400-1761393600@presenciaviva.com
SUMMARY:Sabios I Edades 65+
DESCRIPTION:La sabiduría no es algo que podamos fabricar\, simular\, comprar o apresurar. \nLa sabiduría toma tiempo\, es honorable\, viene de Dios y es un motivo de celebración. \ndedicado a los SABIOS de esta casa (a partir de los 65 años). \n10:00 AM – 1:00 P.M \n¡Vamos a divertirnos! \n\nKaraoke\nBingo\nPremios\nBrunch\n\nEl propósito es conectarnos unos con otros y hacer de sus aprendizajes nuestras victorias. \n 
URL:https://presenciaviva.com/evento/sabios-i-edades-65-5/
LOCATION:Presencia viva\, 7500 NW 25th St UNIT 11\, Miami\, FL\, 33122\, Estados Unidos
CATEGORIES:Reuniones
ORGANIZER;CN="Presencia viva":MAILTO:info@presenciaviva.com
END:VEVENT
BEGIN:VEVENT
DTSTART;TZID=America/New_York:20251031T190000
DTEND;TZID=America/New_York:20251031T210000
DTSTAMP:20260421T201158
CREATED:20251004T163453Z
LAST-MODIFIED:20251004T163453Z
UID:38759-1761937200-1761944400@presenciaviva.com
SUMMARY:Next (Middle & High School)
DESCRIPTION:
URL:https://presenciaviva.com/evento/next-middle-high-school-28/
LOCATION:Presencia viva\, 7500 NW 25th St UNIT 11\, Miami\, FL\, 33122\, Estados Unidos
CATEGORIES:Reuniones
ORGANIZER;CN="Presencia viva":MAILTO:info@presenciaviva.com
END:VEVENT
BEGIN:VEVENT
DTSTART;TZID=America/New_York:20251101T173000
DTEND;TZID=America/New_York:20251101T200000
DTSTAMP:20260421T201158
CREATED:20251102T033555Z
LAST-MODIFIED:20251102T033555Z
UID:38890-1762018200-1762027200@presenciaviva.com
SUMMARY:Jóvenes Adultos
DESCRIPTION:
URL:https://presenciaviva.com/evento/jovenes-adultos-16/
LOCATION:Presencia viva\, 7500 NW 25th St UNIT 11\, Miami\, FL\, 33122\, Estados Unidos
CATEGORIES:Reuniones
ORGANIZER;CN="Presencia viva":MAILTO:info@presenciaviva.com
END:VEVENT
BEGIN:VEVENT
DTSTART;TZID=America/New_York:20251107T190000
DTEND;TZID=America/New_York:20251107T210000
DTSTAMP:20260421T201158
CREATED:20251102T033419Z
LAST-MODIFIED:20251102T033419Z
UID:38882-1762542000-1762549200@presenciaviva.com
SUMMARY:Next (Middle & High School)
DESCRIPTION:
URL:https://presenciaviva.com/evento/next-middle-high-school-29/
LOCATION:Presencia viva\, 7500 NW 25th St UNIT 11\, Miami\, FL\, 33122\, Estados Unidos
CATEGORIES:Reuniones
ORGANIZER;CN="Presencia viva":MAILTO:info@presenciaviva.com
END:VEVENT
BEGIN:VEVENT
DTSTART;TZID=America/New_York:20251114T190000
DTEND;TZID=America/New_York:20251114T210000
DTSTAMP:20260421T201158
CREATED:20251102T033436Z
LAST-MODIFIED:20251102T033436Z
UID:38883-1763146800-1763154000@presenciaviva.com
SUMMARY:Next (Middle & High School)
DESCRIPTION:
URL:https://presenciaviva.com/evento/next-middle-high-school-30/
LOCATION:Presencia viva\, 7500 NW 25th St UNIT 11\, Miami\, FL\, 33122\, Estados Unidos
CATEGORIES:Reuniones
ORGANIZER;CN="Presencia viva":MAILTO:info@presenciaviva.com
END:VEVENT
BEGIN:VEVENT
DTSTART;TZID=America/New_York:20251114T190000
DTEND;TZID=America/New_York:20251114T210000
DTSTAMP:20260421T201158
CREATED:20251102T033653Z
LAST-MODIFIED:20251102T033653Z
UID:38893-1763146800-1763154000@presenciaviva.com
SUMMARY:Matrimonios Comprometidos
DESCRIPTION:
URL:https://presenciaviva.com/evento/matrimonios-comprometidos-7/
LOCATION:Presencia viva\, 7500 NW 25th St UNIT 11\, Miami\, FL\, 33122\, Estados Unidos
CATEGORIES:Reuniones
ORGANIZER;CN="Presencia viva":MAILTO:info@presenciaviva.com
END:VEVENT
BEGIN:VEVENT
DTSTART;TZID=America/New_York:20251115T100000
DTEND;TZID=America/New_York:20251115T130000
DTSTAMP:20260421T201158
CREATED:20250123T025412Z
LAST-MODIFIED:20251102T033804Z
UID:38224-1763200800-1763211600@presenciaviva.com
SUMMARY:OUTREACH
DESCRIPTION:
URL:https://presenciaviva.com/evento/outreach/
LOCATION:Presencia viva\, 7500 NW 25th St UNIT 11\, Miami\, FL\, 33122\, Estados Unidos
CATEGORIES:Eventos especiales
ORGANIZER;CN="Presencia viva":MAILTO:info@presenciaviva.com
END:VEVENT
BEGIN:VEVENT
DTSTART;TZID=America/New_York:20251115T173000
DTEND;TZID=America/New_York:20251115T200000
DTSTAMP:20260421T201158
CREATED:20251102T033608Z
LAST-MODIFIED:20251102T033608Z
UID:38889-1763227800-1763236800@presenciaviva.com
SUMMARY:Jóvenes Adultos
DESCRIPTION:
URL:https://presenciaviva.com/evento/jovenes-adultos-17/
LOCATION:Presencia viva\, 7500 NW 25th St UNIT 11\, Miami\, FL\, 33122\, Estados Unidos
CATEGORIES:Reuniones
ORGANIZER;CN="Presencia viva":MAILTO:info@presenciaviva.com
END:VEVENT
BEGIN:VEVENT
DTSTART;TZID=America/New_York:20251121T190000
DTEND;TZID=America/New_York:20251121T210000
DTSTAMP:20260421T201158
CREATED:20251102T033452Z
LAST-MODIFIED:20251102T033452Z
UID:38884-1763751600-1763758800@presenciaviva.com
SUMMARY:Next (Middle & High School)
DESCRIPTION:
URL:https://presenciaviva.com/evento/next-middle-high-school-31/
LOCATION:Presencia viva\, 7500 NW 25th St UNIT 11\, Miami\, FL\, 33122\, Estados Unidos
CATEGORIES:Reuniones
ORGANIZER;CN="Presencia viva":MAILTO:info@presenciaviva.com
END:VEVENT
BEGIN:VEVENT
DTSTART;TZID=America/New_York:20251122T100000
DTEND;TZID=America/New_York:20251122T120000
DTSTAMP:20260421T201158
CREATED:20251102T034316Z
LAST-MODIFIED:20251102T034316Z
UID:38896-1763805600-1763812800@presenciaviva.com
SUMMARY:Sabios I Edades 65+
DESCRIPTION:La sabiduría no es algo que podamos fabricar\, simular\, comprar o apresurar. \nLa sabiduría toma tiempo\, es honorable\, viene de Dios y es un motivo de celebración. \ndedicado a los SABIOS de esta casa (a partir de los 65 años). \n10:00 AM – 1:00 P.M \n¡Vamos a divertirnos! \n\nKaraoke\nBingo\nPremios\nBrunch\n\nEl propósito es conectarnos unos con otros y hacer de sus aprendizajes nuestras victorias. \n 
URL:https://presenciaviva.com/evento/sabios-i-edades-65-6/
LOCATION:Presencia viva\, 7500 NW 25th St UNIT 11\, Miami\, FL\, 33122\, Estados Unidos
CATEGORIES:Reuniones
ORGANIZER;CN="Presencia viva":MAILTO:info@presenciaviva.com
END:VEVENT
BEGIN:VEVENT
DTSTART;TZID=America/New_York:20251127T100000
DTEND;TZID=America/New_York:20251127T120000
DTSTAMP:20260421T201158
CREATED:20241110T015335Z
LAST-MODIFIED:20251102T034137Z
UID:37837-1764237600-1764244800@presenciaviva.com
SUMMARY:Acción de Gracias
DESCRIPTION:Te invitamos a nuestra celebración de Thanksgiving 2025 \nRegistro
URL:https://presenciaviva.com/evento/accion-de-gracias/
LOCATION:Presencia viva\, 7500 NW 25th St UNIT 11\, Miami\, FL\, 33122\, Estados Unidos
CATEGORIES:Destacados,Eventos especiales,Reuniones
ATTACH;FMTTYPE=image/webp:https://presenciaviva.com/wp-content/uploads/2024/11/THANKSGIVING2.webp
ORGANIZER;CN="Presencia viva":MAILTO:info@presenciaviva.com
END:VEVENT
BEGIN:VEVENT
DTSTART;TZID=America/New_York:20251130T123000
DTEND;TZID=America/New_York:20251130T143000
DTSTAMP:20260421T201158
CREATED:20251102T034415Z
LAST-MODIFIED:20251102T034415Z
UID:38902-1764505800-1764513000@presenciaviva.com
SUMMARY:Dedicación de Bebés
DESCRIPTION:Un acto que hacemos delante de Dios pidiendo su bendición sobre nuestros hijos\, y a través del cual los padres se comprometen a criar y a guiar al niño (a) bajo los preceptos de Dios. \nRegistro
URL:https://presenciaviva.com/evento/dedicacion-de-bebes-4/
LOCATION:Presencia viva\, 7500 NW 25th St UNIT 11\, Miami\, FL\, 33122\, Estados Unidos
CATEGORIES:Reuniones
ATTACH;FMTTYPE=image/png:https://presenciaviva.com/wp-content/uploads/2024/02/Dedicacion-de-bebes_pvkids-1080x1080-1.png
ORGANIZER;CN="Presencia viva":MAILTO:info@presenciaviva.com
END:VEVENT
BEGIN:VEVENT
DTSTART;TZID=America/New_York:20251206T173000
DTEND;TZID=America/New_York:20251206T200000
DTSTAMP:20260421T201158
CREATED:20251202T001246Z
LAST-MODIFIED:20251202T001246Z
UID:38946-1765042200-1765051200@presenciaviva.com
SUMMARY:Jóvenes Adultos
DESCRIPTION:
URL:https://presenciaviva.com/evento/jovenes-adultos-18/
LOCATION:Presencia viva\, 7500 NW 25th St UNIT 11\, Miami\, FL\, 33122\, Estados Unidos
CATEGORIES:Reuniones
ORGANIZER;CN="Presencia viva":MAILTO:info@presenciaviva.com
END:VEVENT
BEGIN:VEVENT
DTSTART;TZID=America/New_York:20251213T140000
DTEND;TZID=America/New_York:20251213T200000
DTSTAMP:20260421T201158
CREATED:20251202T001753Z
LAST-MODIFIED:20251202T001753Z
UID:38948-1765634400-1765656000@presenciaviva.com
SUMMARY:Navidad en Casa
DESCRIPTION:¿Qué es Navidad en Casa?\nUna puesta en escena que nos transportará a nuestros países de origen durante esta época tan especial\, a través de la música\, colores y sabores. Juntos recordaremos y celebraremos\, el verdadero significado de la Navidad. \nQueremos recordar el verdadero significado de la Navidad\, no solo como un cumpleaños\, sino como el comienzo de un acto de amor sin igual. La Navidad se trata de ver el tejido de la humanidad entrelazado con la promesa de la vida que Jesús trajo. Su sacrificio en la cruz y su resurrección son el fundamento de nuestra esperanza\, y es lo que queremos compartir contigo esta temporada. \nPodrás disfrutar de nuestra obra en tres funciones\, a las 2:00 P.M – 5:00 P.M y 8:00 P.M. Elige el horario que mejor se adapte a tu día y ven a celebrar con nosotros.
URL:https://presenciaviva.com/evento/navidad-en-casa/
LOCATION:Presencia viva\, 7500 NW 25th St UNIT 11\, Miami\, FL\, 33122\, Estados Unidos
CATEGORIES:Destacados,Eventos especiales,Reuniones
ATTACH;FMTTYPE=image/webp:https://presenciaviva.com/wp-content/uploads/2025/10/pantalla-navidad-miami.webp
ORGANIZER;CN="Presencia viva":MAILTO:info@presenciaviva.com
END:VEVENT
END:VCALENDAR