BEGIN:VCALENDAR
VERSION:2.0
PRODID:-//Presencia Viva - ECPv6.9.0//NONSGML v1.0//EN
CALSCALE:GREGORIAN
METHOD:PUBLISH
X-ORIGINAL-URL:https://presenciaviva.com
X-WR-CALDESC:Eventos para Presencia Viva
REFRESH-INTERVAL;VALUE=DURATION:PT1H
X-Robots-Tag:noindex
X-PUBLISHED-TTL:PT1H
BEGIN:VTIMEZONE
TZID:America/New_York
BEGIN:DAYLIGHT
TZOFFSETFROM:-0500
TZOFFSETTO:-0400
TZNAME:EDT
DTSTART:20260308T070000
END:DAYLIGHT
BEGIN:STANDARD
TZOFFSETFROM:-0400
TZOFFSETTO:-0500
TZNAME:EST
DTSTART:20261101T060000
END:STANDARD
END:VTIMEZONE
BEGIN:VEVENT
DTSTART;TZID=America/New_York:20260313T190000
DTEND;TZID=America/New_York:20260313T210000
DTSTAMP:20260421T154148
CREATED:20260308T042821Z
LAST-MODIFIED:20260308T042821Z
UID:39182-1773428400-1773435600@presenciaviva.com
SUMMARY:Next (Middle & High School)
DESCRIPTION:
URL:https://presenciaviva.com/evento/next-middle-high-school-32/
LOCATION:Presencia viva\, 7500 NW 25th St UNIT 11\, Miami\, FL\, 33122\, Estados Unidos
CATEGORIES:Reuniones
ORGANIZER;CN="Presencia viva":MAILTO:info@presenciaviva.com
END:VEVENT
BEGIN:VEVENT
DTSTART;TZID=America/New_York:20260320T190000
DTEND;TZID=America/New_York:20260320T210000
DTSTAMP:20260421T154148
CREATED:20260308T042915Z
LAST-MODIFIED:20260308T042915Z
UID:39183-1774033200-1774040400@presenciaviva.com
SUMMARY:Next (Middle & High School)
DESCRIPTION:
URL:https://presenciaviva.com/evento/next-middle-high-school-33/
LOCATION:Presencia viva\, 7500 NW 25th St UNIT 11\, Miami\, FL\, 33122\, Estados Unidos
CATEGORIES:Reuniones
ORGANIZER;CN="Presencia viva":MAILTO:info@presenciaviva.com
END:VEVENT
BEGIN:VEVENT
DTSTART;TZID=America/New_York:20260327T190000
DTEND;TZID=America/New_York:20260327T210000
DTSTAMP:20260421T154148
CREATED:20260308T043016Z
LAST-MODIFIED:20260308T043016Z
UID:39184-1774638000-1774645200@presenciaviva.com
SUMMARY:Next (Middle & High School)
DESCRIPTION:
URL:https://presenciaviva.com/evento/next-middle-high-school-34/
LOCATION:Presencia viva\, 7500 NW 25th St UNIT 11\, Miami\, FL\, 33122\, Estados Unidos
CATEGORIES:Reuniones
ORGANIZER;CN="Presencia viva":MAILTO:info@presenciaviva.com
END:VEVENT
BEGIN:VEVENT
DTSTART;TZID=America/New_York:20260403T193000
DTEND;TZID=America/New_York:20260403T210000
DTSTAMP:20260421T154148
CREATED:20260101T180848Z
LAST-MODIFIED:20260401T014451Z
UID:38113-1775244600-1775250000@presenciaviva.com
SUMMARY:Noche con el Espíritu Santo
DESCRIPTION:
URL:https://presenciaviva.com/evento/noche-con-el-espiritu-santo/
LOCATION:Presencia viva\, 7500 NW 25th St UNIT 11\, Miami\, FL\, 33122\, Estados Unidos
CATEGORIES:Reuniones
ATTACH;FMTTYPE=image/jpeg:https://presenciaviva.com/wp-content/uploads/2024/08/nocheconelespiritu.jpg
ORGANIZER;CN="Presencia viva":MAILTO:info@presenciaviva.com
END:VEVENT
BEGIN:VEVENT
DTSTART;TZID=America/New_York:20260404T090000
DTEND;TZID=America/New_York:20260404T100000
DTSTAMP:20260421T154148
CREATED:20241003T224652Z
LAST-MODIFIED:20260318T222113Z
UID:37315-1775293200-1775296800@presenciaviva.com
SUMMARY:Bautizos
DESCRIPTION:No olvides que la clase previa es el sábado 28 de marzo a las 9:00 a.m. en el auditorio de NextGen. \n¡Regístrate haciendo clic en el botón de abajo! \nRegistro
URL:https://presenciaviva.com/evento/bautizos/
LOCATION:Crandon Park\, 6747 Crandon Blvd\, Key Biscayne\, FL 33149\, Key Biscayne\, FL\, 33149\, Estados Unidos
CATEGORIES:Eventos especiales
ORGANIZER;CN="Presencia viva":MAILTO:info@presenciaviva.com
END:VEVENT
BEGIN:VEVENT
DTSTART;VALUE=DATE:20260405
DTEND;VALUE=DATE:20260406
DTSTAMP:20260421T154148
CREATED:20250325T003726Z
LAST-MODIFIED:20260401T014626Z
UID:38385-1775347200-1775433599@presenciaviva.com
SUMMARY:Especial - VIVE 2026
DESCRIPTION:
URL:https://presenciaviva.com/evento/especial-vive-2026/
LOCATION:Presencia viva\, 7500 NW 25th St UNIT 11\, Miami\, FL\, 33122\, Estados Unidos
CATEGORIES:Eventos especiales,Reuniones
ORGANIZER;CN="Presencia viva":MAILTO:info@presenciaviva.com
END:VEVENT
BEGIN:VEVENT
DTSTART;TZID=America/New_York:20260412T103000
DTEND;TZID=America/New_York:20260412T123000
DTSTAMP:20260421T154148
CREATED:20251004T163017Z
LAST-MODIFIED:20260401T014753Z
UID:38757-1775989800-1775997000@presenciaviva.com
SUMMARY:Inicio de la nueva serie
DESCRIPTION:Carrera de la Fe
URL:https://presenciaviva.com/evento/inicio-de-la-nueva-serie/
LOCATION:Presencia viva\, 7500 NW 25th St UNIT 11\, Miami\, FL\, 33122\, Estados Unidos
CATEGORIES:Reuniones
ORGANIZER;CN="Presencia viva":MAILTO:info@presenciaviva.com
END:VEVENT
BEGIN:VEVENT
DTSTART;TZID=America/New_York:20260425T100000
DTEND;TZID=America/New_York:20260425T130000
DTSTAMP:20260421T154148
CREATED:20260331T005048Z
LAST-MODIFIED:20260401T015818Z
UID:36090-1777111200-1777122000@presenciaviva.com
SUMMARY:Sabios
DESCRIPTION:
URL:https://presenciaviva.com/evento/sabios/
CATEGORIES:Eventos especiales
ORGANIZER;CN="Presencia viva":MAILTO:info@presenciaviva.com
END:VEVENT
BEGIN:VEVENT
DTSTART;TZID=America/New_York:20260426T123000
DTEND;TZID=America/New_York:20260426T140000
DTSTAMP:20260421T154148
CREATED:20260106T022621Z
LAST-MODIFIED:20260401T015939Z
UID:36108-1777206600-1777212000@presenciaviva.com
SUMMARY:Dedicación de bebés
DESCRIPTION:Un acto que hacemos delante de Dios pidiendo su bendición sobre nuestros hijos\, y a través del cual los padres se comprometen a criar y a guiar al niño (a) bajo los preceptos de Dios. \nRegistro
URL:https://presenciaviva.com/evento/dedicacion-de-bebes/
LOCATION:Presencia viva\, 7500 NW 25th St UNIT 11\, Miami\, FL\, 33122\, Estados Unidos
CATEGORIES:Reuniones
ORGANIZER;CN="Presencia viva":MAILTO:info@presenciaviva.com
END:VEVENT
BEGIN:VEVENT
DTSTART;TZID=America/New_York:20260502T090000
DTEND;TZID=America/New_York:20260502T113000
DTSTAMP:20260421T154148
CREATED:20250429T005114Z
LAST-MODIFIED:20260417T211258Z
UID:38426-1777712400-1777721400@presenciaviva.com
SUMMARY:Café de bienvenida
DESCRIPTION:¡Compartamos el desayuno! Para todos aquellos que han llegado a esta casa durante los últimos meses. Esta es una oportunidad espontánea e informal para que nos relacionemos. Preséntate\, cuéntanos cuáles son tus expectativos y al mismo tiempo\, conoce mejor a nuestros pastores\, staff y los planes que en PV tenemos para ti y para tu familia. Regístrate. \nRegistro
URL:https://presenciaviva.com/evento/cafe-de-bienvenida/
LOCATION:Presencia viva\, 7500 NW 25th St UNIT 11\, Miami\, FL\, 33122\, Estados Unidos
CATEGORIES:Reuniones
ATTACH;FMTTYPE=image/webp:https://presenciaviva.com/wp-content/uploads/2025/02/Cafe-de-Bienvenida-web.webp
ORGANIZER;CN="Presencia viva":MAILTO:info@presenciaviva.com
END:VEVENT
BEGIN:VEVENT
DTSTART;TZID=America/New_York:20260512T190000
DTEND;TZID=America/New_York:20260624T200000
DTSTAMP:20260421T154148
CREATED:20260311T112229Z
LAST-MODIFIED:20260419T144032Z
UID:39218-1778612400-1782331200@presenciaviva.com
SUMMARY:Escalera de Crecimiento - Fase 1 - Ciclo #2
DESCRIPTION:Ciclo #2 \nInicio: 12 y 13 de mayo \nFinalización: 23 y 24 de junio \nRegistro
URL:https://presenciaviva.com/evento/escalera-de-crecimiento-fase-1-ciclo-2/
LOCATION:Presencia viva\, 7500 NW 25th St UNIT 11\, Miami\, FL\, 33122\, Estados Unidos
CATEGORIES:Capacitaciones
ORGANIZER;CN="Presencia viva":MAILTO:info@presenciaviva.com
END:VEVENT
BEGIN:VEVENT
DTSTART;TZID=America/New_York:20260608T083000
DTEND;TZID=America/New_York:20260619T170000
DTSTAMP:20260421T154148
CREATED:20260213T213152Z
LAST-MODIFIED:20260213T213613Z
UID:39165-1780907400-1781888400@presenciaviva.com
SUMMARY:Summer Camp 2026 - Light the Way
DESCRIPTION:Fecha: Semana#1  Junio 8  – 12   |  Semana#2  Junio 15 – 19 \nHorario 8:30 am – 5:00 pm  \nRegistro
URL:https://presenciaviva.com/evento/light-the-way/
CATEGORIES:Campamenos,Eventos especiales
END:VEVENT
BEGIN:VEVENT
DTSTART;TZID=America/New_York:20260804T190000
DTEND;TZID=America/New_York:20260916T200000
DTSTAMP:20260421T154148
CREATED:20260311T112428Z
LAST-MODIFIED:20260419T144145Z
UID:39217-1785870000-1789588800@presenciaviva.com
SUMMARY:Escalera de Crecimiento - Fase 1 - Ciclo #3
DESCRIPTION:Ciclo #3 \nInicio: 4 y 5 de agosto \nFinalización: 15 y 16 de septiembre \nRegistro
URL:https://presenciaviva.com/evento/escalera-de-crecimiento-fase-1-ciclo-3/
LOCATION:Presencia viva\, 7500 NW 25th St UNIT 11\, Miami\, FL\, 33122\, Estados Unidos
CATEGORIES:Capacitaciones
ORGANIZER;CN="Presencia viva":MAILTO:info@presenciaviva.com
END:VEVENT
BEGIN:VEVENT
DTSTART;TZID=America/New_York:20261006T190000
DTEND;TZID=America/New_York:20261118T200000
DTSTAMP:20260421T154148
CREATED:20260311T112917Z
LAST-MODIFIED:20260419T144217Z
UID:39216-1791313200-1795032000@presenciaviva.com
SUMMARY:Escalera de Crecimiento - Fase 1 - Ciclo #4
DESCRIPTION:Ciclo #4 \nInicio: 06 y 07 de octubre \nFinalización: 17 y 18 de noviembre \nRegistro
URL:https://presenciaviva.com/evento/escalera-de-crecimiento-fase-1-ciclo-4/
LOCATION:Presencia viva\, 7500 NW 25th St UNIT 11\, Miami\, FL\, 33122\, Estados Unidos
CATEGORIES:Capacitaciones
ORGANIZER;CN="Presencia viva":MAILTO:info@presenciaviva.com
END:VEVENT
END:VCALENDAR