BEGIN:VCALENDAR
VERSION:2.0
PRODID:-//Presencia Viva - ECPv6.9.0//NONSGML v1.0//EN
CALSCALE:GREGORIAN
METHOD:PUBLISH
X-WR-CALNAME:Presencia Viva
X-ORIGINAL-URL:https://presenciaviva.com
X-WR-CALDESC:Eventos para Presencia Viva
REFRESH-INTERVAL;VALUE=DURATION:PT1H
X-Robots-Tag:noindex
X-PUBLISHED-TTL:PT1H
BEGIN:VTIMEZONE
TZID:America/New_York
BEGIN:DAYLIGHT
TZOFFSETFROM:-0500
TZOFFSETTO:-0400
TZNAME:EDT
DTSTART:20240310T070000
END:DAYLIGHT
BEGIN:STANDARD
TZOFFSETFROM:-0400
TZOFFSETTO:-0500
TZNAME:EST
DTSTART:20241103T060000
END:STANDARD
END:VTIMEZONE
BEGIN:VEVENT
DTSTART;TZID=America/New_York:20240906T190000
DTEND;TZID=America/New_York:20240906T210000
DTSTAMP:20260421T122231
CREATED:20240820T025611Z
LAST-MODIFIED:20240827T022011Z
UID:36921-1725649200-1725656400@presenciaviva.com
SUMMARY:Next (Middle and high school)
DESCRIPTION:
URL:https://presenciaviva.com/evento/next-2/
CATEGORIES:Reuniones
ORGANIZER;CN="Presencia viva":MAILTO:info@presenciaviva.com
END:VEVENT
BEGIN:VEVENT
DTSTART;TZID=America/New_York:20240907T173000
DTEND;TZID=America/New_York:20240907T210000
DTSTAMP:20260421T122231
CREATED:20240820T030044Z
LAST-MODIFIED:20240827T022120Z
UID:36933-1725730200-1725742800@presenciaviva.com
SUMMARY:Jóvenes adultos (18 a 30 años)
DESCRIPTION:
URL:https://presenciaviva.com/evento/jovenes-adultos/
LOCATION:Presencia viva\, 7500 NW 25th St UNIT 11\, Miami\, FL\, 33122\, Estados Unidos
CATEGORIES:Reuniones
ORGANIZER;CN="Presencia viva":MAILTO:info@presenciaviva.com
END:VEVENT
BEGIN:VEVENT
DTSTART;TZID=America/New_York:20240913T190000
DTEND;TZID=America/New_York:20240913T210000
DTSTAMP:20260421T122231
CREATED:20240820T025648Z
LAST-MODIFIED:20240827T022028Z
UID:36923-1726254000-1726261200@presenciaviva.com
SUMMARY:Next (Middle and high school)
DESCRIPTION:
URL:https://presenciaviva.com/evento/next-jovenes-de-grados-6-12/
CATEGORIES:Reuniones
ORGANIZER;CN="Presencia viva":MAILTO:info@presenciaviva.com
END:VEVENT
BEGIN:VEVENT
DTSTART;TZID=America/New_York:20240913T190000
DTEND;TZID=America/New_York:20240913T210000
DTSTAMP:20260421T122231
CREATED:20240820T030245Z
LAST-MODIFIED:20240820T030245Z
UID:36938-1726254000-1726261200@presenciaviva.com
SUMMARY:Matrimonios Comprometidos
DESCRIPTION:
URL:https://presenciaviva.com/evento/matrimonios-comprometidos-2/
CATEGORIES:Reuniones
ORGANIZER;CN="Presencia viva":MAILTO:info@presenciaviva.com
END:VEVENT
BEGIN:VEVENT
DTSTART;TZID=America/New_York:20240920T193000
DTEND;TZID=America/New_York:20240920T210000
DTSTAMP:20260421T122231
CREATED:20240820T030452Z
LAST-MODIFIED:20240917T220504Z
UID:36940-1726860600-1726866000@presenciaviva.com
SUMMARY:Noche con el Espíritu Santo
DESCRIPTION:
URL:https://presenciaviva.com/evento/noches-con-el-espiritu-santo-2/
LOCATION:Presencia viva\, 7500 NW 25th St UNIT 11\, Miami\, FL\, 33122\, Estados Unidos
CATEGORIES:Destacados,Reuniones
ATTACH;FMTTYPE=image/jpeg:https://presenciaviva.com/wp-content/uploads/2024/08/nocheconelespiritu.jpg
ORGANIZER;CN="Presencia viva":MAILTO:info@presenciaviva.com
END:VEVENT
BEGIN:VEVENT
DTSTART;TZID=America/New_York:20240921T173000
DTEND;TZID=America/New_York:20240921T210000
DTSTAMP:20260421T122231
CREATED:20240820T030147Z
LAST-MODIFIED:20240827T022115Z
UID:36936-1726939800-1726952400@presenciaviva.com
SUMMARY:Jóvenes adultos (18 a 30 años)
DESCRIPTION:
URL:https://presenciaviva.com/evento/jovenes-adultos-18-a-30-anos/
LOCATION:Presencia viva\, 7500 NW 25th St UNIT 11\, Miami\, FL\, 33122\, Estados Unidos
CATEGORIES:Reuniones
ORGANIZER;CN="Presencia viva":MAILTO:info@presenciaviva.com
END:VEVENT
BEGIN:VEVENT
DTSTART;TZID=America/New_York:20240926T060000
DTEND;TZID=America/New_York:20240926T070000
DTSTAMP:20260421T122231
CREATED:20240820T030004Z
LAST-MODIFIED:20240904T202046Z
UID:36931-1727330400-1727334000@presenciaviva.com
SUMMARY:Reunión de oración
DESCRIPTION:
URL:https://presenciaviva.com/evento/reunion-de-oracion-3/
LOCATION:Presencia viva\, 7500 NW 25th St UNIT 11\, Miami\, FL\, 33122\, Estados Unidos
CATEGORIES:Reuniones
ORGANIZER;CN="Presencia viva":MAILTO:info@presenciaviva.com
END:VEVENT
BEGIN:VEVENT
DTSTART;TZID=America/New_York:20240927T190000
DTEND;TZID=America/New_York:20240927T210000
DTSTAMP:20260421T122231
CREATED:20240820T025737Z
LAST-MODIFIED:20240827T022031Z
UID:36925-1727463600-1727470800@presenciaviva.com
SUMMARY:Next (Middle and high school)
DESCRIPTION:
URL:https://presenciaviva.com/evento/next-jovenes-de-grados-6-12-2/
CATEGORIES:Reuniones
ORGANIZER;CN="Presencia viva":MAILTO:info@presenciaviva.com
END:VEVENT
BEGIN:VEVENT
DTSTART;TZID=America/New_York:20240928T090000
DTEND;TZID=America/New_York:20240928T100000
DTSTAMP:20260421T122231
CREATED:20240820T030542Z
LAST-MODIFIED:20240917T215733Z
UID:36943-1727514000-1727517600@presenciaviva.com
SUMMARY:Café de bienvenida
DESCRIPTION:¡Compartamos el desayuno! Para todos aquellos que han llegado a esta casa durante los últimos meses. Esta es una oportunidad espontánea e informal para que nos relacionemos. Preséntate\, cuéntanos cuáles son tus expectativos y al mismo tiempo\, conoce mejor a nuestros pastores\, staff y los planes que en PV tenemos para ti y para tu familia. Regístrate. \nRegistro
URL:https://presenciaviva.com/evento/cafe-de-bienvenida-2/
LOCATION:Presencia viva\, 7500 NW 25th St UNIT 11\, Miami\, FL\, 33122\, Estados Unidos
CATEGORIES:Reuniones
ATTACH;FMTTYPE=image/jpeg:https://presenciaviva.com/wp-content/uploads/2024/08/cafedebienvenidanueva.jpeg
ORGANIZER;CN="Presencia viva":MAILTO:info@presenciaviva.com
END:VEVENT
BEGIN:VEVENT
DTSTART;TZID=America/New_York:20240929T123000
DTEND;TZID=America/New_York:20240929T143000
DTSTAMP:20260421T122231
CREATED:20240831T021539Z
LAST-MODIFIED:20240904T202110Z
UID:37082-1727613000-1727620200@presenciaviva.com
SUMMARY:Dedicación de Bebés
DESCRIPTION:Un acto que hacemos delante de Dios pidiendo su bendición sobre nuestros hijos\, y a través del cual los padres se comprometen a criar y a guiar al niño (a) bajo los preceptos de Dios. \nRegistro
URL:https://presenciaviva.com/evento/presentacion-de-bebes-2/
LOCATION:Presencia viva\, 7500 NW 25th St UNIT 11\, Miami\, FL\, 33122\, Estados Unidos
CATEGORIES:Reuniones
ATTACH;FMTTYPE=image/png:https://presenciaviva.com/wp-content/uploads/2024/02/Dedicacion-de-bebes_pvkids-1080x1080-1.png
ORGANIZER;CN="Presencia viva":MAILTO:info@presenciaviva.com
END:VEVENT
END:VCALENDAR