BEGIN:VCALENDAR
VERSION:2.0
PRODID:-//Presencia Viva - ECPv6.9.0//NONSGML v1.0//EN
CALSCALE:GREGORIAN
METHOD:PUBLISH
X-ORIGINAL-URL:https://presenciaviva.com
X-WR-CALDESC:Eventos para Presencia Viva
REFRESH-INTERVAL;VALUE=DURATION:PT1H
X-Robots-Tag:noindex
X-PUBLISHED-TTL:PT1H
BEGIN:VTIMEZONE
TZID:America/New_York
BEGIN:DAYLIGHT
TZOFFSETFROM:-0500
TZOFFSETTO:-0400
TZNAME:EDT
DTSTART:20240310T070000
END:DAYLIGHT
BEGIN:STANDARD
TZOFFSETFROM:-0400
TZOFFSETTO:-0500
TZNAME:EST
DTSTART:20241103T060000
END:STANDARD
END:VTIMEZONE
BEGIN:VEVENT
DTSTART;TZID=America/New_York:20241108T190000
DTEND;TZID=America/New_York:20241108T210000
DTSTAMP:20260421T090212
CREATED:20241110T014139Z
LAST-MODIFIED:20241110T014139Z
UID:37823-1731092400-1731099600@presenciaviva.com
SUMMARY:Next (Middle and high school)
DESCRIPTION:
URL:https://presenciaviva.com/evento/next-middle-and-high-school-5/
CATEGORIES:Reuniones
ORGANIZER;CN="Presencia viva":MAILTO:info@presenciaviva.com
END:VEVENT
BEGIN:VEVENT
DTSTART;TZID=America/New_York:20241108T190000
DTEND;TZID=America/New_York:20241108T210000
DTSTAMP:20260421T090212
CREATED:20241110T014331Z
LAST-MODIFIED:20241110T014331Z
UID:37827-1731092400-1731099600@presenciaviva.com
SUMMARY:Matrimonios Comprometidos
DESCRIPTION:
URL:https://presenciaviva.com/evento/matrimonios-comprometidos-4/
CATEGORIES:Reuniones
ORGANIZER;CN="Presencia viva":MAILTO:info@presenciaviva.com
END:VEVENT
BEGIN:VEVENT
DTSTART;TZID=America/New_York:20241115T190000
DTEND;TZID=America/New_York:20241115T210000
DTSTAMP:20260421T090212
CREATED:20241110T014149Z
LAST-MODIFIED:20241110T014149Z
UID:37822-1731697200-1731704400@presenciaviva.com
SUMMARY:Next (Middle and high school)
DESCRIPTION:
URL:https://presenciaviva.com/evento/next-middle-and-high-school-6/
CATEGORIES:Reuniones
ORGANIZER;CN="Presencia viva":MAILTO:info@presenciaviva.com
END:VEVENT
BEGIN:VEVENT
DTSTART;TZID=America/New_York:20241116T173000
DTEND;TZID=America/New_York:20241116T210000
DTSTAMP:20260421T090212
CREATED:20241110T014421Z
LAST-MODIFIED:20241110T014421Z
UID:37829-1731778200-1731790800@presenciaviva.com
SUMMARY:Jóvenes adultos (18 a 30 años)
DESCRIPTION:
URL:https://presenciaviva.com/evento/jovenes-adultos-18-a-30-anos-4/
LOCATION:Presencia viva\, 7500 NW 25th St UNIT 11\, Miami\, FL\, 33122\, Estados Unidos
CATEGORIES:Reuniones
ORGANIZER;CN="Presencia viva":MAILTO:info@presenciaviva.com
END:VEVENT
BEGIN:VEVENT
DTSTART;TZID=America/New_York:20241122T190000
DTEND;TZID=America/New_York:20241122T210000
DTSTAMP:20260421T090212
CREATED:20241110T014202Z
LAST-MODIFIED:20241110T014202Z
UID:37821-1732302000-1732309200@presenciaviva.com
SUMMARY:Next (Middle and high school)
DESCRIPTION:
URL:https://presenciaviva.com/evento/next-middle-and-high-school-7/
CATEGORIES:Reuniones
ORGANIZER;CN="Presencia viva":MAILTO:info@presenciaviva.com
END:VEVENT
BEGIN:VEVENT
DTSTART;TZID=America/New_York:20241123T100000
DTEND;TZID=America/New_York:20241123T130000
DTSTAMP:20260421T090212
CREATED:20241110T014549Z
LAST-MODIFIED:20241110T014549Z
UID:37833-1732356000-1732366800@presenciaviva.com
SUMMARY:Sabios
DESCRIPTION:
URL:https://presenciaviva.com/evento/sabios-4/
CATEGORIES:Eventos especiales
ATTACH;FMTTYPE=image/png:https://presenciaviva.com/wp-content/uploads/2024/08/sABIOS-1080.png
ORGANIZER;CN="Presencia viva":MAILTO:info@presenciaviva.com
END:VEVENT
BEGIN:VEVENT
DTSTART;TZID=America/New_York:20241123T173000
DTEND;TZID=America/New_York:20241123T210000
DTSTAMP:20260421T090212
CREATED:20241110T014432Z
LAST-MODIFIED:20241110T014432Z
UID:37830-1732383000-1732395600@presenciaviva.com
SUMMARY:Jóvenes adultos (18 a 30 años)
DESCRIPTION:
URL:https://presenciaviva.com/evento/jovenes-adultos-18-a-30-anos-5/
LOCATION:Presencia viva\, 7500 NW 25th St UNIT 11\, Miami\, FL\, 33122\, Estados Unidos
CATEGORIES:Reuniones
ORGANIZER;CN="Presencia viva":MAILTO:info@presenciaviva.com
END:VEVENT
BEGIN:VEVENT
DTSTART;TZID=America/New_York:20241124T123000
DTEND;TZID=America/New_York:20241124T143000
DTSTAMP:20260421T090212
CREATED:20241110T014641Z
LAST-MODIFIED:20241110T014641Z
UID:37835-1732451400-1732458600@presenciaviva.com
SUMMARY:Dedicación de Bebés
DESCRIPTION:Un acto que hacemos delante de Dios pidiendo su bendición sobre nuestros hijos\, y a través del cual los padres se comprometen a criar y a guiar al niño (a) bajo los preceptos de Dios. \nRegistro
URL:https://presenciaviva.com/evento/dedicacion-de-bebes-3/
LOCATION:Presencia viva\, 7500 NW 25th St UNIT 11\, Miami\, FL\, 33122\, Estados Unidos
CATEGORIES:Reuniones
ATTACH;FMTTYPE=image/png:https://presenciaviva.com/wp-content/uploads/2024/02/Dedicacion-de-bebes_pvkids-1080x1080-1.png
ORGANIZER;CN="Presencia viva":MAILTO:info@presenciaviva.com
END:VEVENT
END:VCALENDAR