BEGIN:VCALENDAR
VERSION:2.0
PRODID:-//Presencia Viva - ECPv6.9.0//NONSGML v1.0//EN
CALSCALE:GREGORIAN
METHOD:PUBLISH
X-WR-CALNAME:Presencia Viva
X-ORIGINAL-URL:https://presenciaviva.com
X-WR-CALDESC:Eventos para Presencia Viva
REFRESH-INTERVAL;VALUE=DURATION:PT1H
X-Robots-Tag:noindex
X-PUBLISHED-TTL:PT1H
BEGIN:VTIMEZONE
TZID:America/New_York
BEGIN:DAYLIGHT
TZOFFSETFROM:-0500
TZOFFSETTO:-0400
TZNAME:EDT
DTSTART:20240310T070000
END:DAYLIGHT
BEGIN:STANDARD
TZOFFSETFROM:-0400
TZOFFSETTO:-0500
TZNAME:EST
DTSTART:20241103T060000
END:STANDARD
END:VTIMEZONE
BEGIN:VEVENT
DTSTART;TZID=America/New_York:20241207T173000
DTEND;TZID=America/New_York:20241207T210000
DTSTAMP:20260421T062159
CREATED:20241204T020721Z
LAST-MODIFIED:20241204T020721Z
UID:37995-1733592600-1733605200@presenciaviva.com
SUMMARY:Jóvenes adultos (18 a 30 años)
DESCRIPTION:
URL:https://presenciaviva.com/evento/jovenes-adultos-18-a-30-anos-diciembre/
LOCATION:Presencia viva\, 7500 NW 25th St UNIT 11\, Miami\, FL\, 33122\, Estados Unidos
CATEGORIES:Reuniones
ORGANIZER;CN="Presencia viva":MAILTO:info@presenciaviva.com
END:VEVENT
BEGIN:VEVENT
DTSTART;TZID=America/New_York:20241208T123000
DTEND;TZID=America/New_York:20241208T160000
DTSTAMP:20260421T062159
CREATED:20241204T021247Z
LAST-MODIFIED:20241204T021339Z
UID:37998-1733661000-1733673600@presenciaviva.com
SUMMARY:Especial de Navidad “El Velo”
DESCRIPTION:El Velo es mucho más que un concepto\, es un símbolo profundo de la reconciliación entre Dios y la humanidad a través del sacrificio de Jesús. En nuestra puesta en escena\, viajaremos a través de su vida\, desde la crucifixión y resurrección\, pasando por sus enseñanzas y milagros\, hasta llegar a su promesa y nacimiento en el pesebre. Ven a experimentar esta historia transformadora de amor\, esperanza y redención\, todo a través de canciones y una poderosa interpretación actoral.
URL:https://presenciaviva.com/evento/especial-de-navidad-el-velo/
LOCATION:Presencia viva\, 7500 NW 25th St UNIT 11\, Miami\, FL\, 33122\, Estados Unidos
CATEGORIES:Destacados,Eventos especiales,Reuniones
ATTACH;FMTTYPE=image/webp:https://presenciaviva.com/wp-content/uploads/2024/12/story-e1733278305461.webp
ORGANIZER;CN="Presencia viva":MAILTO:info@presenciaviva.com
END:VEVENT
BEGIN:VEVENT
DTSTART;TZID=America/New_York:20241212T060000
DTEND;TZID=America/New_York:20241212T070000
DTSTAMP:20260421T062159
CREATED:20241204T021512Z
LAST-MODIFIED:20241204T021533Z
UID:38002-1733983200-1733986800@presenciaviva.com
SUMMARY:Reunión de oración
DESCRIPTION:Diciembre 12: Último día de reunión online hasta el 2025
URL:https://presenciaviva.com/evento/reunion-de-oracion-diciembre-2024/
LOCATION:Presencia viva\, 7500 NW 25th St UNIT 11\, Miami\, FL\, 33122\, Estados Unidos
CATEGORIES:Reuniones
ORGANIZER;CN="Presencia viva":MAILTO:info@presenciaviva.com
END:VEVENT
BEGIN:VEVENT
DTSTART;TZID=America/New_York:20241214T090000
DTEND;TZID=America/New_York:20241214T130000
DTSTAMP:20260421T062159
CREATED:20241204T021829Z
LAST-MODIFIED:20241204T021829Z
UID:38005-1734166800-1734181200@presenciaviva.com
SUMMARY:Café de bienvenida
DESCRIPTION:¡Compartamos el desayuno! Para todos aquellos que han llegado a esta casa durante los últimos meses. Esta es una oportunidad espontánea e informal para que nos relacionemos. Preséntate\, cuéntanos cuáles son tus expectativos y al mismo tiempo\, conoce mejor a nuestros pastores\, staff y los planes que en PV tenemos para ti y para tu familia. Regístrate. \nRegistro
URL:https://presenciaviva.com/evento/cafe-de-bienvenida-diciembre/
LOCATION:Presencia viva\, 7500 NW 25th St UNIT 11\, Miami\, FL\, 33122\, Estados Unidos
CATEGORIES:Reuniones
ATTACH;FMTTYPE=image/jpeg:https://presenciaviva.com/wp-content/uploads/2024/08/cafedebienvenidanueva.jpeg
ORGANIZER;CN="Presencia viva":MAILTO:info@presenciaviva.com
END:VEVENT
BEGIN:VEVENT
DTSTART;TZID=America/New_York:20241229T123000
DTEND;TZID=America/New_York:20241229T143000
DTSTAMP:20260421T062159
CREATED:20241204T021955Z
LAST-MODIFIED:20241204T021955Z
UID:38008-1735475400-1735482600@presenciaviva.com
SUMMARY:Año Nuevo 2024
DESCRIPTION:Última reunión del 2024
URL:https://presenciaviva.com/evento/ano-nuevo-2024/
LOCATION:Presencia viva\, 7500 NW 25th St UNIT 11\, Miami\, FL\, 33122\, Estados Unidos
CATEGORIES:Reuniones
ORGANIZER;CN="Presencia viva":MAILTO:info@presenciaviva.com
END:VEVENT
BEGIN:VEVENT
DTSTART;TZID=America/New_York:20241229T123000
DTEND;TZID=America/New_York:20241229T143000
DTSTAMP:20260421T062159
CREATED:20241204T022136Z
LAST-MODIFIED:20241204T022136Z
UID:38010-1735475400-1735482600@presenciaviva.com
SUMMARY:Dedicación de Bebés
DESCRIPTION:Un acto que hacemos delante de Dios pidiendo su bendición sobre nuestros hijos\, y a través del cual los padres se comprometen a criar y a guiar al niño (a) bajo los preceptos de Dios. \nRegistro
URL:https://presenciaviva.com/evento/dedicacion-de-bebes-diciembre-2024/
LOCATION:Presencia viva\, 7500 NW 25th St UNIT 11\, Miami\, FL\, 33122\, Estados Unidos
CATEGORIES:Reuniones
ATTACH;FMTTYPE=image/png:https://presenciaviva.com/wp-content/uploads/2024/02/Dedicacion-de-bebes_pvkids-1080x1080-1.png
ORGANIZER;CN="Presencia viva":MAILTO:info@presenciaviva.com
END:VEVENT
END:VCALENDAR