BEGIN:VCALENDAR
VERSION:2.0
PRODID:-//Presencia Viva - ECPv6.9.0//NONSGML v1.0//EN
CALSCALE:GREGORIAN
METHOD:PUBLISH
X-WR-CALNAME:Presencia Viva
X-ORIGINAL-URL:https://presenciaviva.com
X-WR-CALDESC:Eventos para Presencia Viva
REFRESH-INTERVAL;VALUE=DURATION:PT1H
X-Robots-Tag:noindex
X-PUBLISHED-TTL:PT1H
BEGIN:VTIMEZONE
TZID:America/New_York
BEGIN:DAYLIGHT
TZOFFSETFROM:-0500
TZOFFSETTO:-0400
TZNAME:EDT
DTSTART:20250309T070000
END:DAYLIGHT
BEGIN:STANDARD
TZOFFSETFROM:-0400
TZOFFSETTO:-0500
TZNAME:EST
DTSTART:20251102T060000
END:STANDARD
END:VTIMEZONE
BEGIN:VEVENT
DTSTART;TZID=America/New_York:20250402T190000
DTEND;TZID=America/New_York:20250402T200000
DTSTAMP:20260421T053625
CREATED:20250222T182528Z
LAST-MODIFIED:20250222T182528Z
UID:38308-1743620400-1743624000@presenciaviva.com
SUMMARY:Coaching Financiero para Matrimonios Clase 5
DESCRIPTION:
URL:https://presenciaviva.com/evento/coaching-financiero-para-matrimonios-clase-5/
LOCATION:Presencia viva\, 7500 NW 25th St UNIT 11\, Miami\, FL\, 33122\, Estados Unidos
CATEGORIES:Eventos especiales
ATTACH;FMTTYPE=image/webp:https://presenciaviva.com/wp-content/uploads/2025/02/coachingFinanciero.webp
ORGANIZER;CN="Presencia viva":MAILTO:info@presenciaviva.com
END:VEVENT
BEGIN:VEVENT
DTSTART;TZID=America/New_York:20250404T190000
DTEND;TZID=America/New_York:20250404T210000
DTSTAMP:20260421T053625
CREATED:20250325T003104Z
LAST-MODIFIED:20250325T003104Z
UID:38372-1743793200-1743800400@presenciaviva.com
SUMMARY:Next (Middle & High School)
DESCRIPTION:
URL:https://presenciaviva.com/evento/next-middle-high-school-6/
LOCATION:Presencia viva\, 7500 NW 25th St UNIT 11\, Miami\, FL\, 33122\, Estados Unidos
CATEGORIES:Reuniones
ORGANIZER;CN="Presencia viva":MAILTO:info@presenciaviva.com
END:VEVENT
BEGIN:VEVENT
DTSTART;TZID=America/New_York:20250411T190000
DTEND;TZID=America/New_York:20250411T210000
DTSTAMP:20260421T053625
CREATED:20250325T003140Z
LAST-MODIFIED:20250325T003140Z
UID:38374-1744398000-1744405200@presenciaviva.com
SUMMARY:Next (Middle & High School)
DESCRIPTION:
URL:https://presenciaviva.com/evento/next-middle-high-school-7/
LOCATION:Presencia viva\, 7500 NW 25th St UNIT 11\, Miami\, FL\, 33122\, Estados Unidos
CATEGORIES:Reuniones
ORGANIZER;CN="Presencia viva":MAILTO:info@presenciaviva.com
END:VEVENT
BEGIN:VEVENT
DTSTART;TZID=America/New_York:20250412T090000
DTEND;TZID=America/New_York:20250412T160000
DTSTAMP:20260421T053625
CREATED:20250325T003331Z
LAST-MODIFIED:20250325T003331Z
UID:38379-1744448400-1744473600@presenciaviva.com
SUMMARY:Taller de Sexualidad y Relaciones para Jóvenes Adultos
DESCRIPTION:
URL:https://presenciaviva.com/evento/taller-de-sexualidad-y-relaciones/
LOCATION:Presencia viva\, 7500 NW 25th St UNIT 11\, Miami\, FL\, 33122\, Estados Unidos
CATEGORIES:Reuniones
ORGANIZER;CN="Presencia viva":MAILTO:info@presenciaviva.com
END:VEVENT
BEGIN:VEVENT
DTSTART;TZID=America/New_York:20250418T193000
DTEND;TZID=America/New_York:20250418T210000
DTSTAMP:20260421T053625
CREATED:20250325T003522Z
LAST-MODIFIED:20250325T003522Z
UID:38382-1745004600-1745010000@presenciaviva.com
SUMMARY:VIVE - Noche de Adoración
DESCRIPTION:
URL:https://presenciaviva.com/evento/vive-noche-de-adoracion/
LOCATION:Presencia viva\, 7500 NW 25th St UNIT 11\, Miami\, FL\, 33122\, Estados Unidos
CATEGORIES:Reuniones
ORGANIZER;CN="Presencia viva":MAILTO:info@presenciaviva.com
END:VEVENT
BEGIN:VEVENT
DTSTART;TZID=America/New_York:20250425T190000
DTEND;TZID=America/New_York:20250425T210000
DTSTAMP:20260421T053625
CREATED:20250325T003206Z
LAST-MODIFIED:20250325T003206Z
UID:38375-1745607600-1745614800@presenciaviva.com
SUMMARY:Next (Middle & High School)
DESCRIPTION:
URL:https://presenciaviva.com/evento/next-middle-high-school-8/
LOCATION:Presencia viva\, 7500 NW 25th St UNIT 11\, Miami\, FL\, 33122\, Estados Unidos
CATEGORIES:Reuniones
ORGANIZER;CN="Presencia viva":MAILTO:info@presenciaviva.com
END:VEVENT
END:VCALENDAR