BEGIN:VCALENDAR
VERSION:2.0
PRODID:-//Presencia Viva - ECPv6.9.0//NONSGML v1.0//EN
CALSCALE:GREGORIAN
METHOD:PUBLISH
X-ORIGINAL-URL:https://presenciaviva.com
X-WR-CALDESC:Eventos para Presencia Viva
REFRESH-INTERVAL;VALUE=DURATION:PT1H
X-Robots-Tag:noindex
X-PUBLISHED-TTL:PT1H
BEGIN:VTIMEZONE
TZID:America/New_York
BEGIN:DAYLIGHT
TZOFFSETFROM:-0500
TZOFFSETTO:-0400
TZNAME:EDT
DTSTART:20250309T070000
END:DAYLIGHT
BEGIN:STANDARD
TZOFFSETFROM:-0400
TZOFFSETTO:-0500
TZNAME:EST
DTSTART:20251102T060000
END:STANDARD
END:VTIMEZONE
BEGIN:VEVENT
DTSTART;TZID=America/New_York:20251003T190000
DTEND;TZID=America/New_York:20251003T210000
DTSTAMP:20260421T153930
CREATED:20251004T163239Z
LAST-MODIFIED:20251004T163239Z
UID:38763-1759518000-1759525200@presenciaviva.com
SUMMARY:Next (Middle & High School)
DESCRIPTION:
URL:https://presenciaviva.com/evento/next-middle-high-school-24/
LOCATION:Presencia viva\, 7500 NW 25th St UNIT 11\, Miami\, FL\, 33122\, Estados Unidos
CATEGORIES:Reuniones
ORGANIZER;CN="Presencia viva":MAILTO:info@presenciaviva.com
END:VEVENT
BEGIN:VEVENT
DTSTART;TZID=America/New_York:20251004T173000
DTEND;TZID=America/New_York:20251004T200000
DTSTAMP:20260421T153931
CREATED:20251004T163557Z
LAST-MODIFIED:20251004T163557Z
UID:38770-1759599000-1759608000@presenciaviva.com
SUMMARY:Jóvenes Adultos
DESCRIPTION:
URL:https://presenciaviva.com/evento/jovenes-adultos-14/
LOCATION:Presencia viva\, 7500 NW 25th St UNIT 11\, Miami\, FL\, 33122\, Estados Unidos
CATEGORIES:Reuniones
ORGANIZER;CN="Presencia viva":MAILTO:info@presenciaviva.com
END:VEVENT
BEGIN:VEVENT
DTSTART;TZID=America/New_York:20251008T190000
DTEND;TZID=America/New_York:20251008T200000
DTSTAMP:20260421T153931
CREATED:20250322T172823Z
LAST-MODIFIED:20251004T163712Z
UID:38310-1759950000-1759953600@presenciaviva.com
SUMMARY:Reunión de Mujeres
DESCRIPTION:Registro
URL:https://presenciaviva.com/evento/reunion-de-mujeres/
LOCATION:Presencia viva\, 7500 NW 25th St UNIT 11\, Miami\, FL\, 33122\, Estados Unidos
CATEGORIES:Eventos especiales
ORGANIZER;CN="Presencia viva":MAILTO:info@presenciaviva.com
END:VEVENT
BEGIN:VEVENT
DTSTART;TZID=America/New_York:20251010T190000
DTEND;TZID=America/New_York:20251010T210000
DTSTAMP:20260421T153931
CREATED:20240717T004412Z
LAST-MODIFIED:20251004T163825Z
UID:36078-1760122800-1760130000@presenciaviva.com
SUMMARY:Matrimonios Comprometidos
DESCRIPTION:
URL:https://presenciaviva.com/evento/matrimonios-comprometidos/
CATEGORIES:Reuniones
ORGANIZER;CN="Presencia viva":MAILTO:info@presenciaviva.com
END:VEVENT
BEGIN:VEVENT
DTSTART;TZID=America/New_York:20251010T190000
DTEND;TZID=America/New_York:20251010T210000
DTSTAMP:20260421T153931
CREATED:20251004T163336Z
LAST-MODIFIED:20251004T163336Z
UID:38762-1760122800-1760130000@presenciaviva.com
SUMMARY:Next (Middle & High School)
DESCRIPTION:
URL:https://presenciaviva.com/evento/next-middle-high-school-25/
LOCATION:Presencia viva\, 7500 NW 25th St UNIT 11\, Miami\, FL\, 33122\, Estados Unidos
CATEGORIES:Reuniones
ORGANIZER;CN="Presencia viva":MAILTO:info@presenciaviva.com
END:VEVENT
BEGIN:VEVENT
DTSTART;TZID=America/New_York:20251015T190000
DTEND;TZID=America/New_York:20251015T200000
DTSTAMP:20260421T153931
CREATED:20250325T001417Z
LAST-MODIFIED:20251004T163934Z
UID:38369-1760554800-1760558400@presenciaviva.com
SUMMARY:Reunión de Hombres
DESCRIPTION:
URL:https://presenciaviva.com/evento/reunion-de-hombres/
LOCATION:Presencia viva\, 7500 NW 25th St UNIT 11\, Miami\, FL\, 33122\, Estados Unidos
CATEGORIES:Eventos especiales
ORGANIZER;CN="Presencia viva":MAILTO:info@presenciaviva.com
END:VEVENT
BEGIN:VEVENT
DTSTART;TZID=America/New_York:20251017T190000
DTEND;TZID=America/New_York:20251017T210000
DTSTAMP:20260421T153931
CREATED:20251004T163402Z
LAST-MODIFIED:20251004T163402Z
UID:38761-1760727600-1760734800@presenciaviva.com
SUMMARY:Next (Middle & High School)
DESCRIPTION:
URL:https://presenciaviva.com/evento/next-middle-high-school-26/
LOCATION:Presencia viva\, 7500 NW 25th St UNIT 11\, Miami\, FL\, 33122\, Estados Unidos
CATEGORIES:Reuniones
ORGANIZER;CN="Presencia viva":MAILTO:info@presenciaviva.com
END:VEVENT
BEGIN:VEVENT
DTSTART;TZID=America/New_York:20251018T173000
DTEND;TZID=America/New_York:20251018T200000
DTSTAMP:20260421T153931
CREATED:20251004T163613Z
LAST-MODIFIED:20251004T163613Z
UID:38769-1760808600-1760817600@presenciaviva.com
SUMMARY:Jóvenes Adultos
DESCRIPTION:
URL:https://presenciaviva.com/evento/jovenes-adultos-15/
LOCATION:Presencia viva\, 7500 NW 25th St UNIT 11\, Miami\, FL\, 33122\, Estados Unidos
CATEGORIES:Reuniones
ORGANIZER;CN="Presencia viva":MAILTO:info@presenciaviva.com
END:VEVENT
BEGIN:VEVENT
DTSTART;TZID=America/New_York:20251024T190000
DTEND;TZID=America/New_York:20251024T210000
DTSTAMP:20260421T153931
CREATED:20251004T163431Z
LAST-MODIFIED:20251004T163431Z
UID:38760-1761332400-1761339600@presenciaviva.com
SUMMARY:Next (Middle & High School)
DESCRIPTION:
URL:https://presenciaviva.com/evento/next-middle-high-school-27/
LOCATION:Presencia viva\, 7500 NW 25th St UNIT 11\, Miami\, FL\, 33122\, Estados Unidos
CATEGORIES:Reuniones
ORGANIZER;CN="Presencia viva":MAILTO:info@presenciaviva.com
END:VEVENT
BEGIN:VEVENT
DTSTART;TZID=America/New_York:20251025T100000
DTEND;TZID=America/New_York:20251025T120000
DTSTAMP:20260421T153931
CREATED:20250803T011151Z
LAST-MODIFIED:20251004T164038Z
UID:38601-1761386400-1761393600@presenciaviva.com
SUMMARY:Sabios I Edades 65+
DESCRIPTION:La sabiduría no es algo que podamos fabricar\, simular\, comprar o apresurar. \nLa sabiduría toma tiempo\, es honorable\, viene de Dios y es un motivo de celebración. \ndedicado a los SABIOS de esta casa (a partir de los 65 años). \n10:00 AM – 1:00 P.M \n¡Vamos a divertirnos! \n\nKaraoke\nBingo\nPremios\nBrunch\n\nEl propósito es conectarnos unos con otros y hacer de sus aprendizajes nuestras victorias. \n 
URL:https://presenciaviva.com/evento/sabios-i-edades-65-5/
LOCATION:Presencia viva\, 7500 NW 25th St UNIT 11\, Miami\, FL\, 33122\, Estados Unidos
CATEGORIES:Reuniones
ORGANIZER;CN="Presencia viva":MAILTO:info@presenciaviva.com
END:VEVENT
BEGIN:VEVENT
DTSTART;TZID=America/New_York:20251031T190000
DTEND;TZID=America/New_York:20251031T210000
DTSTAMP:20260421T153931
CREATED:20251004T163453Z
LAST-MODIFIED:20251004T163453Z
UID:38759-1761937200-1761944400@presenciaviva.com
SUMMARY:Next (Middle & High School)
DESCRIPTION:
URL:https://presenciaviva.com/evento/next-middle-high-school-28/
LOCATION:Presencia viva\, 7500 NW 25th St UNIT 11\, Miami\, FL\, 33122\, Estados Unidos
CATEGORIES:Reuniones
ORGANIZER;CN="Presencia viva":MAILTO:info@presenciaviva.com
END:VEVENT
END:VCALENDAR